BEGIN:VCALENDAR
VERSION:2.0
PRODID:-//NAMAR - ECPv6.15.20//NONSGML v1.0//EN
CALSCALE:GREGORIAN
METHOD:PUBLISH
X-WR-CALNAME:NAMAR
X-ORIGINAL-URL:https://namar.org
X-WR-CALDESC:Events for NAMAR
REFRESH-INTERVAL;VALUE=DURATION:PT1H
X-Robots-Tag:noindex
X-PUBLISHED-TTL:PT1H
BEGIN:VTIMEZONE
TZID:America/New_York
BEGIN:DAYLIGHT
TZOFFSETFROM:-0500
TZOFFSETTO:-0400
TZNAME:EDT
DTSTART:20220313T070000
END:DAYLIGHT
BEGIN:STANDARD
TZOFFSETFROM:-0400
TZOFFSETTO:-0500
TZNAME:EST
DTSTART:20221106T060000
END:STANDARD
BEGIN:DAYLIGHT
TZOFFSETFROM:-0500
TZOFFSETTO:-0400
TZNAME:EDT
DTSTART:20230312T070000
END:DAYLIGHT
BEGIN:STANDARD
TZOFFSETFROM:-0400
TZOFFSETTO:-0500
TZNAME:EST
DTSTART:20231105T060000
END:STANDARD
BEGIN:DAYLIGHT
TZOFFSETFROM:-0500
TZOFFSETTO:-0400
TZNAME:EDT
DTSTART:20240310T070000
END:DAYLIGHT
BEGIN:STANDARD
TZOFFSETFROM:-0400
TZOFFSETTO:-0500
TZNAME:EST
DTSTART:20241103T060000
END:STANDARD
END:VTIMEZONE
BEGIN:VEVENT
DTSTART;TZID=America/New_York:20230223T170000
DTEND;TZID=America/New_York:20230223T190000
DTSTAMP:20260424T073449
CREATED:20230207T072618Z
LAST-MODIFIED:20230207T072751Z
UID:10000031-1677171600-1677178800@namar.org
SUMMARY:Tacos & Taxes
DESCRIPTION:2023 Tax Tips YOU Need to Know! \nEvening Networking & Tax Information Event\nwith Jacqueline Sheldon of Bottom Line Tax Solutions \n\n\nFebruary 23\, 2023\n\n5 pm – 7 pm \n$20 Members / $30 Non Members \nLa Cazuela Restaurant\n2nd Floor\n179 W Crogan Street \n\nLawrenceville\, GA 30046\n\n\nRSVP ONLINE \nBRING YOUR QUESTIONS!!!
URL:https://namar.org/event/tacos-taxes/
LOCATION:La Cazuela\, 179 W Crogan Street\, 2nd Floor\, Lawrenceville\, GA\, 30046\, United States
CATEGORIES:NAMAR Events
ATTACH;FMTTYPE=image/png:https://namar.org/wp-content/uploads/2023/02/tacos-and-taxes.png
ORGANIZER;CN="NAMAR":MAILTO:events@namar.org
END:VEVENT
END:VCALENDAR