BEGIN:VCALENDAR
VERSION:2.0
PRODID:-//NAMAR - ECPv6.15.20//NONSGML v1.0//EN
CALSCALE:GREGORIAN
METHOD:PUBLISH
X-WR-CALNAME:NAMAR
X-ORIGINAL-URL:https://namar.org
X-WR-CALDESC:Events for NAMAR
REFRESH-INTERVAL;VALUE=DURATION:PT1H
X-Robots-Tag:noindex
X-PUBLISHED-TTL:PT1H
BEGIN:VTIMEZONE
TZID:America/New_York
BEGIN:DAYLIGHT
TZOFFSETFROM:-0500
TZOFFSETTO:-0400
TZNAME:EDT
DTSTART:20220313T070000
END:DAYLIGHT
BEGIN:STANDARD
TZOFFSETFROM:-0400
TZOFFSETTO:-0500
TZNAME:EST
DTSTART:20221106T060000
END:STANDARD
BEGIN:DAYLIGHT
TZOFFSETFROM:-0500
TZOFFSETTO:-0400
TZNAME:EDT
DTSTART:20230312T070000
END:DAYLIGHT
BEGIN:STANDARD
TZOFFSETFROM:-0400
TZOFFSETTO:-0500
TZNAME:EST
DTSTART:20231105T060000
END:STANDARD
BEGIN:DAYLIGHT
TZOFFSETFROM:-0500
TZOFFSETTO:-0400
TZNAME:EDT
DTSTART:20240310T070000
END:DAYLIGHT
BEGIN:STANDARD
TZOFFSETFROM:-0400
TZOFFSETTO:-0500
TZNAME:EST
DTSTART:20241103T060000
END:STANDARD
END:VTIMEZONE
BEGIN:VEVENT
DTSTART;TZID=America/New_York:20230303T100000
DTEND;TZID=America/New_York:20230303T113000
DTSTAMP:20260420T011002
CREATED:20230207T181517Z
LAST-MODIFIED:20230222T174032Z
UID:10000032-1677837600-1677843000@namar.org
SUMMARY:March 2023 NAMAR Connect
DESCRIPTION:NAMAR March Connect \nMarch 3\, 2023 / 10:00 am\nFree \nWomen In Leadership \nPanel Includes:\nCassandra McCrory – President GA WCR\nLaura Rittenberg – Coldwell Banker Realty\, President\, Atlanta\nJanét Goff – NAMAR Association Executive\nMelanie Gilstrap – Owner of Gilstrap Exterminating\nYangsook Ku – Broker\, CEO/ Atlanta Realty Central\, Inc \nSponsored by Angela Garner\, Armadillo Home Solutions \nREIGSTER ONLINE
URL:https://namar.org/event/march-2023-namar-connect/
LOCATION:George Pierce Park\, 55 Buford Highway\, Suwanee\, GA\, 30024\, United States
CATEGORIES:NAMAR Events
ORGANIZER;CN="NAMAR":MAILTO:events@namar.org
END:VEVENT
END:VCALENDAR