BEGIN:VCALENDAR
VERSION:2.0
PRODID:-//NAMAR - ECPv6.15.20//NONSGML v1.0//EN
CALSCALE:GREGORIAN
METHOD:PUBLISH
X-ORIGINAL-URL:https://namar.org
X-WR-CALDESC:Events for NAMAR
REFRESH-INTERVAL;VALUE=DURATION:PT1H
X-Robots-Tag:noindex
X-PUBLISHED-TTL:PT1H
BEGIN:VTIMEZONE
TZID:America/New_York
BEGIN:DAYLIGHT
TZOFFSETFROM:-0500
TZOFFSETTO:-0400
TZNAME:EDT
DTSTART:20240310T070000
END:DAYLIGHT
BEGIN:STANDARD
TZOFFSETFROM:-0400
TZOFFSETTO:-0500
TZNAME:EST
DTSTART:20241103T060000
END:STANDARD
BEGIN:DAYLIGHT
TZOFFSETFROM:-0500
TZOFFSETTO:-0400
TZNAME:EDT
DTSTART:20250309T070000
END:DAYLIGHT
BEGIN:STANDARD
TZOFFSETFROM:-0400
TZOFFSETTO:-0500
TZNAME:EST
DTSTART:20251102T060000
END:STANDARD
BEGIN:DAYLIGHT
TZOFFSETFROM:-0500
TZOFFSETTO:-0400
TZNAME:EDT
DTSTART:20260308T070000
END:DAYLIGHT
BEGIN:STANDARD
TZOFFSETFROM:-0400
TZOFFSETTO:-0500
TZNAME:EST
DTSTART:20261101T060000
END:STANDARD
BEGIN:DAYLIGHT
TZOFFSETFROM:-0500
TZOFFSETTO:-0400
TZNAME:EDT
DTSTART:20270314T070000
END:DAYLIGHT
BEGIN:STANDARD
TZOFFSETFROM:-0400
TZOFFSETTO:-0500
TZNAME:EST
DTSTART:20271107T060000
END:STANDARD
END:VTIMEZONE
BEGIN:VEVENT
DTSTART;TZID=America/New_York:20260120T133000
DTEND;TZID=America/New_York:20260120T163000
DTSTAMP:20260419T122021
CREATED:20260112T184419Z
LAST-MODIFIED:20260112T184419Z
UID:10000314-1768915800-1768926600@namar.org
SUMMARY:Fair Housing CE Class
DESCRIPTION:Fair Housing CE Class\nJanuary 20\, 2026 \n1:30 pm – 4:30 pm\n$20 Members / $30 non Members / 3 CE Credits\nInstructor: Debra Betolatti \nLocation: Ganek PC\n1735 N. Brown Road\nLawrenceville\, GA 30043 \nREGISTER ONLINE
URL:https://namar.org/event/fair-housing-ce-class/
LOCATION:Ganek PC Classroom\, 1735 N. Brown Road Ste. 100\, Lawrenceville\, 30043\, United States
CATEGORIES:NAMAR Education
ATTACH;FMTTYPE=image/jpeg:https://namar.org/wp-content/uploads/2022/12/ce-class.jpg
ORGANIZER;CN="NAMAR":MAILTO:events@namar.org
END:VEVENT
BEGIN:VEVENT
DTSTART;TZID=America/New_York:20251215T090000
DTEND;TZID=America/New_York:20251218T153000
DTSTAMP:20260419T122021
CREATED:20251110T165501Z
LAST-MODIFIED:20251110T165932Z
UID:10000298-1765789200-1766071800@namar.org
SUMMARY:18 HR Broker CE Class
DESCRIPTION:18 HR Broker CE Class / December 15 – December 18\, 2025\n$100 for all 18 Hours or $35 per Session\nInstructor: Debra Betalotti \nLocation: Ganek PC\n1735 N Brown Rd\nLawrenceville\, GA 30043 \nGREC now requires Brokers and Associate Brokers to complete 18 hours of Broker-specific CE as part of their renewal — these 18 hours count within the standard 36-hour CE requirement\, but the hours must specifically be designated as “Broker CE .” NAMAR is offering these Broker CE classes for those who still need to complete (or finish out ) this requirement. \nIf you don’t need all 18 hours – you may simply choose the individual sessions that you need. \nClick Here to Register for all Sessions \nDay 1 – December 15\n\nAM Session: 9 am – 12 pm\nLeading the Way\nClick Here to Register \nPM Session: 12:30 pm – 3:30 pm\nBroker Building Blocks\nClick here to Register \nDay 2 – December 16\n\nAM Session: 9 am – 12 pm\nPut Your Money Where Your Contract Is\nClick Here to Register \nPM Session: 12:30 pm – 3:30 pm\nContract Control Hierarchy of Agreements\, Exhibits & Amendments\nClick here to Register \nDay 3 – December 17\nAM Session: 9 am – 12 pm\nWhen Ads Go Rogue\nClick Here to Register \nDay 4 – December 18\nAM Session: 9 am – 12 pm\nCommand Central\nClick Here to Register \n 
URL:https://namar.org/event/18-hr-broker-ce-class/
LOCATION:Ganek PC Classroom\, 1735 N. Brown Road Ste. 100\, Lawrenceville\, 30043\, United States
CATEGORIES:NAMAR Education
ATTACH;FMTTYPE=image/jpeg:https://namar.org/wp-content/uploads/2022/12/ce-class.jpg
ORGANIZER;CN="NAMAR":MAILTO:events@namar.org
END:VEVENT
BEGIN:VEVENT
DTSTART;TZID=America/New_York:20250821T130000
DTEND;TZID=America/New_York:20250821T160000
DTSTAMP:20260419T122021
CREATED:20250716T164959Z
LAST-MODIFIED:20250716T164959Z
UID:10000275-1755781200-1755792000@namar.org
SUMMARY:National Code of Ethics Day!
DESCRIPTION:2025 National Code of Ethics – NAMAR\nThursday\, August 21\, 2025 (1:00 PM to 4:00 PM)\n3 Education Credits \n\nGREC Policy: If you have taken this course in the last 366 days\, you will not receive CE credit. GREC School – Georgia Association of REALTORS®. GREC School Number 271. \nSchool Policy: You must be on time and present for the entire session to receive credit. \n*Class format (In-Classroom or Livestream) is a decision of the Class Sponsor and not GAR. \nThis In-Classroom Class is sponsored by the Northeast Atlanta Metro Association of REALTORS® \nLOCATION: Ganek PC\nGanek PC\n1735 N. Brown Road\nLawrenceville\, GA 30043 \nREGISTER HERE
URL:https://namar.org/event/national-code-of-ethics-day/
LOCATION:Ganek PC Classroom\, 1735 N. Brown Road Ste. 100\, Lawrenceville\, 30043\, United States
ATTACH;FMTTYPE=application/pdf:https://namar.org/wp-content/uploads/2025/07/National-Code-of-Ethics-Day-2025.pdf
ORGANIZER;CN="NAMAR":MAILTO:events@namar.org
END:VEVENT
BEGIN:VEVENT
DTSTART;TZID=America/New_York:20250805T100000
DTEND;TZID=America/New_York:20250805T130000
DTSTAMP:20260419T122021
CREATED:20241106T171126Z
LAST-MODIFIED:20250602T180321Z
UID:10000204-1754388000-1754398800@namar.org
SUMMARY:CE CLASS: Understanding Real Estate the Real Estate Closing Process from TRID to Title
DESCRIPTION:Understanding Real Estate the Real Estate Closing Process from TRID to Title / August 5\, 2025\n10:00 am – 1:00 pm\n$20 Members /  $30 Non Members\n3 CE Credits\nInstructor: Harry Minsk\, Ganek PC\nLocation:\nGanek PC\n1735 N. Brown Road Ste. 100\nLawrenceville\, GA 30043\nREGISTER ONLINE \nTake in depth look at what occurs behind the scenes from the binding contract to the closing table. Know what timeframes may effect your transaction and how to prepare your clients for a smooth closing.
URL:https://namar.org/event/ce-class-understanding-real-estate-the-real-estate-closing-process-from-trid-to-title/
LOCATION:Ganek PC Classroom\, 1735 N. Brown Road Ste. 100\, Lawrenceville\, 30043\, United States
CATEGORIES:NAMAR Education
ATTACH;FMTTYPE=image/jpeg:https://namar.org/wp-content/uploads/2022/12/ce-class.jpg
ORGANIZER;CN="NAMAR":MAILTO:events@namar.org
END:VEVENT
BEGIN:VEVENT
DTSTART;TZID=America/New_York:20250626T100000
DTEND;TZID=America/New_York:20250626T113000
DTSTAMP:20260419T122021
CREATED:20250602T181559Z
LAST-MODIFIED:20250602T181756Z
UID:10000270-1750932000-1750937400@namar.org
SUMMARY:WORKSHOP: Tax Tips for Real Estate Investors
DESCRIPTION:WORKSHOP: Tax Tips for Real Estate Investors / June 26\, 2025\n10:00 am – 11:30 am\nFREE / No CE Credit\nInstructor: Jacqueline Sheldon. Bottom Line Tax Solutions\nREGISTER ONLINE \nLocation:\nGanek PC\n1735 N. Brown Road Ste. 100\nLawrenceville\, GA 30043
URL:https://namar.org/event/workshop-tax-tips-for-real-estate-investors-2/
LOCATION:Ganek PC Classroom\, 1735 N. Brown Road Ste. 100\, Lawrenceville\, 30043\, United States
CATEGORIES:NAMAR Education
ATTACH;FMTTYPE=image/jpeg:https://namar.org/wp-content/uploads/2022/12/workshop.jpg
ORGANIZER;CN="NAMAR":MAILTO:events@namar.org
END:VEVENT
BEGIN:VEVENT
DTSTART;TZID=America/New_York:20250624T130000
DTEND;TZID=America/New_York:20250624T160000
DTSTAMP:20260419T122021
CREATED:20250602T173013Z
LAST-MODIFIED:20250605T183444Z
UID:10000268-1750770000-1750780800@namar.org
SUMMARY:Fair Housing
DESCRIPTION:Fair Housing / June 24\, 2025\n1:00 pm – 4:00 pm\n$15 Members / $20 Non Members\nInstructor: Lisa Oden \nREGISTER ONLINE \nLocation:\nGanek PC\n1735 N. Brown Road Ste. 100\nLawrenceville\, GA 30043 \nREALTORS® are required to complete Fair Housing / Anti-Bias Training upon becoming a member\, and every 3 years thereafter\, coinciding with the Code of Ethics training timeline. \n 
URL:https://namar.org/event/fair-housing/
LOCATION:Ganek PC Classroom\, 1735 N. Brown Road Ste. 100\, Lawrenceville\, 30043\, United States
CATEGORIES:NAMAR Education,NAMAR Events
ATTACH;FMTTYPE=image/png:https://namar.org/wp-content/uploads/2025/06/Fair-Housing-Logo.png
ORGANIZER;CN="NAMAR":MAILTO:events@namar.org
END:VEVENT
BEGIN:VEVENT
DTSTART;TZID=America/New_York:20250624T090000
DTEND;TZID=America/New_York:20250624T120000
DTSTAMP:20260419T122021
CREATED:20250603T170254Z
LAST-MODIFIED:20250605T182832Z
UID:10000271-1750755600-1750766400@namar.org
SUMMARY:REALTOR® Code of Ethics
DESCRIPTION:DATE: Tuesday\, June 24\, 2025 | 3.0 Education Credits\nTIME: 9:00 AM to 12:00 PM\nLOCATION: Ganek PC Classroom\n1735 N. Brown Road\nSte. 100\nLawrenceville\, GA 30043\n\n\nThe National Association of REALTORS® requires that all REALTORS® complete  ethics training  of not less than 2 hours\, 30 minutes of instructional time during their cycle time. Currently\, we are on Cycle 8 which runs from January 1\, 2025 – December 31\, 2027. The training must meet specific learning objectives and criteria established by the National Association of REALTORS®.\n\nREGISTER HERE
URL:https://namar.org/event/realtor-code-of-ethics-2/
LOCATION:Ganek PC Classroom\, 1735 N. Brown Road Ste. 100\, Lawrenceville\, 30043\, United States
CATEGORIES:Code of Ethics,NAMAR Education,NAMAR Events
ATTACH;FMTTYPE=image/jpeg:https://namar.org/wp-content/uploads/2025/06/NAR_cobrand_01_COE-791x1024-1.jpg
ORGANIZER;CN="NAMAR":MAILTO:events@namar.org
END:VEVENT
BEGIN:VEVENT
DTSTART;TZID=America/New_York:20250618T100000
DTEND;TZID=America/New_York:20250618T130000
DTSTAMP:20260419T122021
CREATED:20250602T172653Z
LAST-MODIFIED:20250602T173637Z
UID:10000267-1750240800-1750251600@namar.org
SUMMARY:The This and That of Mortgages
DESCRIPTION:DATE: Wednesday\, June 18\, 2025 | 3.0 Education Credits\nTIME: 10:00 AM to 1:00 PM\nLOCATION: Ganek PC Classroom\n1735 N. Brown Road\nSte. 100\nLawrenceville\, GA 30043\n\nREGISTER HERE
URL:https://namar.org/event/the-this-and-that-of-mortgages-2/
LOCATION:Ganek PC Classroom\, 1735 N. Brown Road Ste. 100\, Lawrenceville\, 30043\, United States
ORGANIZER;CN="NAMAR":MAILTO:events@namar.org
END:VEVENT
BEGIN:VEVENT
DTSTART;VALUE=DATE:20250609
DTEND;VALUE=DATE:20250610
DTSTAMP:20260419T122021
CREATED:20250602T171212Z
LAST-MODIFIED:20250606T151114Z
UID:10000265-1749427200-1749513599@namar.org
SUMMARY:2025 You Can't Fix Stupid but You Can Work With Ignorance
DESCRIPTION:DATE: Monday\, June 9\, 2025 | 6 Education Credits\nTIME: 9AM – 4PM\nLOCATION: Ganek PC Classroom\n1735 N. Brown Road\nSte. 100\nLawrenceville\, GA 30043\n\nThis class is approved by the Georgia Real Estate Commission for 6 hours of real estate continuing education ( including Broker CE !!) AND 6 hours of continuing education for licensed real estate instructors.   In addition\, completion of this class also meets the License Law update requirement which all real estate licensees must complete every license period. \nInstructed by Tom Gillett \n\n\nREGISTER HERE
URL:https://namar.org/event/2025-you-cant-fix-stupid-but-you-can-work-with-ignorance/
LOCATION:Ganek PC Classroom\, 1735 N. Brown Road Ste. 100\, Lawrenceville\, 30043\, United States
CATEGORIES:NAMAR Education,NAMAR Events
ATTACH;FMTTYPE=application/pdf:https://namar.org/wp-content/uploads/2025/06/You-Cant-Fix-Stupid-but-you-CAN-1.pdf
ORGANIZER;CN="NAMAR":MAILTO:events@namar.org
END:VEVENT
END:VCALENDAR