BEGIN:VCALENDAR
VERSION:2.0
PRODID:-//NAMAR - ECPv6.15.20//NONSGML v1.0//EN
CALSCALE:GREGORIAN
METHOD:PUBLISH
X-WR-CALNAME:NAMAR
X-ORIGINAL-URL:https://namar.org
X-WR-CALDESC:Events for NAMAR
REFRESH-INTERVAL;VALUE=DURATION:PT1H
X-Robots-Tag:noindex
X-PUBLISHED-TTL:PT1H
BEGIN:VTIMEZONE
TZID:America/New_York
BEGIN:DAYLIGHT
TZOFFSETFROM:-0500
TZOFFSETTO:-0400
TZNAME:EDT
DTSTART:20250309T070000
END:DAYLIGHT
BEGIN:STANDARD
TZOFFSETFROM:-0400
TZOFFSETTO:-0500
TZNAME:EST
DTSTART:20251102T060000
END:STANDARD
BEGIN:DAYLIGHT
TZOFFSETFROM:-0500
TZOFFSETTO:-0400
TZNAME:EDT
DTSTART:20260308T070000
END:DAYLIGHT
BEGIN:STANDARD
TZOFFSETFROM:-0400
TZOFFSETTO:-0500
TZNAME:EST
DTSTART:20261101T060000
END:STANDARD
BEGIN:DAYLIGHT
TZOFFSETFROM:-0500
TZOFFSETTO:-0400
TZNAME:EDT
DTSTART:20270314T070000
END:DAYLIGHT
BEGIN:STANDARD
TZOFFSETFROM:-0400
TZOFFSETTO:-0500
TZNAME:EST
DTSTART:20271107T060000
END:STANDARD
END:VTIMEZONE
BEGIN:VEVENT
DTSTART;TZID=America/New_York:20260109T110000
DTEND;TZID=America/New_York:20260109T123000
DTSTAMP:20260425T230524
CREATED:20251218T112613Z
LAST-MODIFIED:20251218T112613Z
UID:10000301-1767956400-1767961800@namar.org
SUMMARY:NAMAR January Member Connect
DESCRIPTION:NAMAR January Member Connect\nDATE: Friday\, January 9\, 2026 \nTIME: 10:30 AM to 1:00 PM \nLOCATION: Jackson EMC\n825 Buford Drive\nLawrenceville\, GA 30043 \nWe Welcome Dr. Danette O’Neal as our speaker – “ Fight. Flight. Freeze. Faith: The Leadership Choice”\n\nHave you ever had a moment as a leader when everything just… stopped? A tough decision\, bad news\, a setback—and suddenly your instincts kicked in. Maybe you felt the urge to push back\, to retreat\, or maybe you didn’t know what to do at all. That’s the human side of leadership. \nNo matter whether you lead a small team\, a big organization\, or a community project\, every leader faces these instinctive reactions. But there’s also a higher choice available to us—one that can shift everything \, Dr. Danette O’Neal explores the four instinctive responses leaders face in moments of pressure: Fight\, Flight\, Freeze\, and Faith. This presentation challenges leaders to recognize their natural reactions\, choose wisely\, and rise with purpose. \n\nCLICK HERE TO REGISTER
URL:https://namar.org/event/namar-january-member-connect/
LOCATION:Jackson EMC\, 825 Buford Drive\, Lawrenceville\, GA\, 830043\, United States
CATEGORIES:NAMAR Events
ATTACH;FMTTYPE=application/pdf:https://namar.org/wp-content/uploads/2025/12/January-2026-Member-Connect-1.pdf
ORGANIZER;CN="NAMAR":MAILTO:events@namar.org
END:VEVENT
END:VCALENDAR