BEGIN:VCALENDAR
VERSION:2.0
PRODID:-//NAMAR - ECPv6.15.20//NONSGML v1.0//EN
CALSCALE:GREGORIAN
METHOD:PUBLISH
X-ORIGINAL-URL:https://namar.org
X-WR-CALDESC:Events for NAMAR
REFRESH-INTERVAL;VALUE=DURATION:PT1H
X-Robots-Tag:noindex
X-PUBLISHED-TTL:PT1H
BEGIN:VTIMEZONE
TZID:America/New_York
BEGIN:DAYLIGHT
TZOFFSETFROM:-0500
TZOFFSETTO:-0400
TZNAME:EDT
DTSTART:20240310T070000
END:DAYLIGHT
BEGIN:STANDARD
TZOFFSETFROM:-0400
TZOFFSETTO:-0500
TZNAME:EST
DTSTART:20241103T060000
END:STANDARD
BEGIN:DAYLIGHT
TZOFFSETFROM:-0500
TZOFFSETTO:-0400
TZNAME:EDT
DTSTART:20250309T070000
END:DAYLIGHT
BEGIN:STANDARD
TZOFFSETFROM:-0400
TZOFFSETTO:-0500
TZNAME:EST
DTSTART:20251102T060000
END:STANDARD
BEGIN:DAYLIGHT
TZOFFSETFROM:-0500
TZOFFSETTO:-0400
TZNAME:EDT
DTSTART:20260308T070000
END:DAYLIGHT
BEGIN:STANDARD
TZOFFSETFROM:-0400
TZOFFSETTO:-0500
TZNAME:EST
DTSTART:20261101T060000
END:STANDARD
END:VTIMEZONE
BEGIN:VEVENT
DTSTART;TZID=America/New_York:20251028T100000
DTEND;TZID=America/New_York:20251028T130000
DTSTAMP:20260421T130349
CREATED:20250806T181710Z
LAST-MODIFIED:20251027T200747Z
UID:10000276-1761645600-1761656400@namar.org
SUMMARY:CANCELLED: Custom Mortgage Solutions for Unique Life Scenarios
DESCRIPTION:THIS CLASS IS CANCELLED\nCustom Mortgage Solutions for Unique Life Scenarios /  October 28\, 2025 \n10:00 am – 1:00 pm \n\nInstructor: Tim Arrington\n3 CE Credits / $20 Members / $30 Non Members\nLunch will be sponsored by Mortgage Core\n\n \nThis course equips real estate professionals with insights into specialized mortgage options tailored to diverse client needs. Attendees will learn to assess client mortgage eligibility\, including credit score\, debt-to-income\, and loan-to-value considerations. The course explores differences between Qualified and Non-Qualified Mortgages\, alternative income verification methods\, and specific loan products for clients with credit challenges. Additionally\, it addresses financing options for various property types\, such as rural homes\, multifamily units\, and condotels. By the end\, participants will gain a stronger understanding of mortgage solutions for unique financial and property scenarios\, enabling them to expand their client base.
URL:https://namar.org/event/ce-class-custom-mortgage-solutions-for-unique-life-scenarios/
LOCATION:NAMAR Office\, 5415 Sugarloaf Pkwy\, Suite 2205\, Lawrenceville\, GA\, 30043\, United States
CATEGORIES:NAMAR Education
ATTACH;FMTTYPE=image/jpeg:https://namar.org/wp-content/uploads/2022/12/ce-class.jpg
ORGANIZER;CN="NAMAR":MAILTO:events@namar.org
END:VEVENT
END:VCALENDAR