BEGIN:VCALENDAR
VERSION:2.0
PRODID:-//NAMAR - ECPv6.15.20//NONSGML v1.0//EN
CALSCALE:GREGORIAN
METHOD:PUBLISH
X-ORIGINAL-URL:https://namar.org
X-WR-CALDESC:Events for NAMAR
REFRESH-INTERVAL;VALUE=DURATION:PT1H
X-Robots-Tag:noindex
X-PUBLISHED-TTL:PT1H
BEGIN:VTIMEZONE
TZID:America/New_York
BEGIN:DAYLIGHT
TZOFFSETFROM:-0500
TZOFFSETTO:-0400
TZNAME:EDT
DTSTART:20220313T070000
END:DAYLIGHT
BEGIN:STANDARD
TZOFFSETFROM:-0400
TZOFFSETTO:-0500
TZNAME:EST
DTSTART:20221106T060000
END:STANDARD
BEGIN:DAYLIGHT
TZOFFSETFROM:-0500
TZOFFSETTO:-0400
TZNAME:EDT
DTSTART:20230312T070000
END:DAYLIGHT
BEGIN:STANDARD
TZOFFSETFROM:-0400
TZOFFSETTO:-0500
TZNAME:EST
DTSTART:20231105T060000
END:STANDARD
BEGIN:DAYLIGHT
TZOFFSETFROM:-0500
TZOFFSETTO:-0400
TZNAME:EDT
DTSTART:20240310T070000
END:DAYLIGHT
BEGIN:STANDARD
TZOFFSETFROM:-0400
TZOFFSETTO:-0500
TZNAME:EST
DTSTART:20241103T060000
END:STANDARD
END:VTIMEZONE
BEGIN:VEVENT
DTSTART;TZID=America/New_York:20230823T100000
DTEND;TZID=America/New_York:20230823T130000
DTSTAMP:20260421T170458
CREATED:20230501T182357Z
LAST-MODIFIED:20230822T220729Z
UID:10000065-1692784800-1692795600@namar.org
SUMMARY:THIS CLASS IS CANCELLED: What Georgia REALTORS Should Know About Radon and Home Inspections
DESCRIPTION:THIS CLASS IS CANCELLED – What Georgia REALTORS Should Know About Radon and Home Inspections / August 23\, 2023\n10:00 am – 1:00 pm\n$15 Members / $30 Non Members\n3 CE Credits\nREGISTER ONLINE \nCourse Summary \nAny home\, regardless of when it was built\, its location\, or the materials used to build the home\, can expose its residents to radon. Many states require that a home’s radon history be disclosed to potential buyers. As a result\, radon testing may play an important role in the real estate transaction process. Real estate agents that are better informed on the potential hazards associated with radon as well as mitigation techniques will be able to better guide their clients through the real estate transaction process. \nCourse Objectives: \nBy the end of this course\, participants will be able to: \n•    Identify risks associated with long-term radon exposure. \n•    Describe ways that radon can infiltrate a house. \n•    Explain testing measures that can be used to identify the presence of radon in a home. \n•    Describe the benefits of radon mitigation systems. \n•    Guide their clients through the real estate transaction process with particular sensitivity to radon. \nInstructor: All Atlanta Inspection Services\nLunch provided
URL:https://namar.org/event/ce-class-what-georgia-realtors-should-know-about-radon-and-home-inspections/
LOCATION:NAMAR Lower Level Classroom\, 2145 Duluth Highway\, Duluth\, GA\, 30097\, United States
CATEGORIES:NAMAR Education
ATTACH;FMTTYPE=image/jpeg:https://namar.org/wp-content/uploads/2022/12/ce-class.jpg
ORGANIZER;CN="NAMAR":MAILTO:events@namar.org
END:VEVENT
END:VCALENDAR