BEGIN:VCALENDAR
VERSION:2.0
PRODID:-//NAMAR - ECPv6.15.20//NONSGML v1.0//EN
CALSCALE:GREGORIAN
METHOD:PUBLISH
X-WR-CALNAME:NAMAR
X-ORIGINAL-URL:https://namar.org
X-WR-CALDESC:Events for NAMAR
REFRESH-INTERVAL;VALUE=DURATION:PT1H
X-Robots-Tag:noindex
X-PUBLISHED-TTL:PT1H
BEGIN:VTIMEZONE
TZID:America/New_York
BEGIN:DAYLIGHT
TZOFFSETFROM:-0500
TZOFFSETTO:-0400
TZNAME:EDT
DTSTART:20250309T070000
END:DAYLIGHT
BEGIN:STANDARD
TZOFFSETFROM:-0400
TZOFFSETTO:-0500
TZNAME:EST
DTSTART:20251102T060000
END:STANDARD
BEGIN:DAYLIGHT
TZOFFSETFROM:-0500
TZOFFSETTO:-0400
TZNAME:EDT
DTSTART:20260308T070000
END:DAYLIGHT
BEGIN:STANDARD
TZOFFSETFROM:-0400
TZOFFSETTO:-0500
TZNAME:EST
DTSTART:20261101T060000
END:STANDARD
BEGIN:DAYLIGHT
TZOFFSETFROM:-0500
TZOFFSETTO:-0400
TZNAME:EDT
DTSTART:20270314T070000
END:DAYLIGHT
BEGIN:STANDARD
TZOFFSETFROM:-0400
TZOFFSETTO:-0500
TZNAME:EST
DTSTART:20271107T060000
END:STANDARD
END:VTIMEZONE
BEGIN:VEVENT
DTSTART;TZID=America/New_York:20260203T100000
DTEND;TZID=America/New_York:20260203T113000
DTSTAMP:20260425T112506
CREATED:20250910T173901Z
LAST-MODIFIED:20260129T162012Z
UID:10000284-1770112800-1770118200@namar.org
SUMMARY:CANCELLED - Top 10 Mistakes Realtors Make When it Comes to their Taxes
DESCRIPTION:
URL:https://namar.org/event/top-10-mistakes-realtors-make-when-it-comes-to-their-taxes-3/
LOCATION:NAMAR Office\, 5415 Sugarloaf Pkwy\, Suite 2205\, Lawrenceville\, GA\, 30043\, United States
CATEGORIES:NAMAR Education
ATTACH;FMTTYPE=image/jpeg:https://namar.org/wp-content/uploads/2022/12/seminar-workshop.jpg
ORGANIZER;CN="NAMAR":MAILTO:events@namar.org
END:VEVENT
BEGIN:VEVENT
DTSTART;TZID=America/New_York:20260203T100000
DTEND;TZID=America/New_York:20260203T130000
DTSTAMP:20260425T112506
CREATED:20260112T185035Z
LAST-MODIFIED:20260112T185035Z
UID:10000315-1770112800-1770123600@namar.org
SUMMARY:License Law CE Class
DESCRIPTION:License Law CE Class\nFebruary 3\, 2026\n10 am – 1 pm\n$20 Members / $30 Non Members / 3 CE Credits\nInstructor: Lisa Oden \nLocation: NAMAR Office\n5415 Sugarloaf Pkwy\, Suite 2205\nLawrenceville\, GA 30043 \nREGISTER ONLINE
URL:https://namar.org/event/license-law-ce-class/
LOCATION:NAMAR Office\, 5415 Sugarloaf Pkwy\, Suite 2205\, Lawrenceville\, GA\, 30043\, United States
CATEGORIES:NAMAR Education
ATTACH;FMTTYPE=image/jpeg:https://namar.org/wp-content/uploads/2022/12/ce-class.jpg
ORGANIZER;CN="NAMAR":MAILTO:events@namar.org
END:VEVENT
BEGIN:VEVENT
DTSTART;TZID=America/New_York:20260209T100000
DTEND;TZID=America/New_York:20260209T120000
DTSTAMP:20260425T112506
CREATED:20260107T184828Z
LAST-MODIFIED:20260107T184828Z
UID:10000312-1770631200-1770638400@namar.org
SUMMARY:AFFILIATE WORKSHOP: Conquering Social Media and AI: Real Estate Strategies That Work
DESCRIPTION:Conquering Social Media and AI: Real Estate Strategies That Work \nFebruary 9\, 2026\n10 am – 12 pm\n$10 Members / $15 Non Members / NO CE CREDIT\nLocation: NAMAR\n5415 Sugarloaf Pkwy\, Suite 2205\nLawrenceville\, GA 30043 \nREGISTER ONLINE \nLearn the main AI platforms and how to use with social Media. This class is fun and full of energy. Refreshments provided.
URL:https://namar.org/event/affiliate-workshop-conquering-social-media-and-ai-real-estate-strategies-that-work/
LOCATION:NAMAR Office\, 5415 Sugarloaf Pkwy\, Suite 2205\, Lawrenceville\, GA\, 30043\, United States
CATEGORIES:NAMAR Education
ATTACH;FMTTYPE=image/jpeg:https://namar.org/wp-content/uploads/2022/12/workshop.jpg
ORGANIZER;CN="NAMAR":MAILTO:events@namar.org
END:VEVENT
BEGIN:VEVENT
DTSTART;TZID=America/New_York:20260213T110000
DTEND;TZID=America/New_York:20260213T130000
DTSTAMP:20260425T112506
CREATED:20260114T193834Z
LAST-MODIFIED:20260114T194016Z
UID:10000316-1770980400-1770987600@namar.org
SUMMARY:February Member Connect
DESCRIPTION:Member Connect / February 13\, 2026\n11 am – 1 pm\n\nLocation: Jackson EMC\n825 Buford Drive\nLawrenceville\, GA 30043\n\n\nThe State of the Market: What’s Ahead for Real Estate\n“A 2026 Economic Outlook with the Federal Reserve Bank of Atlanta”\n\nSpeaker: David Altig\, Executive Vice President and Chief Economic Adviser for the Federal Reserve Bank of Atlanta\n \nThank you to our Event Sponsor: McMichael & Gray\n\n*PARKING – There is limited parking\, please carpool if you can. Parking for NAMAR members is in the back of the building through the gate. Overflow parking is on the side of the building where the car charging stations are located. PLEASE DO NOT park in front of the building\, that is for their customers.* \nREGISTER ONLINE
URL:https://namar.org/event/february-member-connect/
LOCATION:Jackson EMC\, 825 Buford Drive\, Lawrenceville\, GA\, 830043\, United States
CATEGORIES:NAMAR Events
ORGANIZER;CN="NAMAR":MAILTO:events@namar.org
END:VEVENT
BEGIN:VEVENT
DTSTART;TZID=America/New_York:20260224T100000
DTEND;TZID=America/New_York:20260224T130000
DTSTAMP:20260425T112506
CREATED:20260209T185453Z
LAST-MODIFIED:20260209T185453Z
UID:10000323-1771927200-1771938000@namar.org
SUMMARY:2026 Contract Updates
DESCRIPTION:2026 Contract Updates / February 24\, 2026\n10 am – 1 pm\n$30 / 3 CE Credits\nInstructor: Lisa Oden\nLocation: NAMAR\n5415 Sugarloaf Parkway\, Suite 2205\nLawrenceville\, GA 30043 \nREGISTER ONLINE
URL:https://namar.org/event/2026-contract-updates/
LOCATION:NAMAR Office\, 5415 Sugarloaf Pkwy\, Suite 2205\, Lawrenceville\, GA\, 30043\, United States
CATEGORIES:NAMAR Education
ATTACH;FMTTYPE=image/jpeg:https://namar.org/wp-content/uploads/2022/12/ce-class.jpg
ORGANIZER;CN="NAMAR":MAILTO:events@namar.org
END:VEVENT
END:VCALENDAR