BEGIN:VCALENDAR
VERSION:2.0
PRODID:-//NAMAR - ECPv6.15.20//NONSGML v1.0//EN
CALSCALE:GREGORIAN
METHOD:PUBLISH
X-WR-CALNAME:NAMAR
X-ORIGINAL-URL:https://namar.org
X-WR-CALDESC:Events for NAMAR
REFRESH-INTERVAL;VALUE=DURATION:PT1H
X-Robots-Tag:noindex
X-PUBLISHED-TTL:PT1H
BEGIN:VTIMEZONE
TZID:America/New_York
BEGIN:DAYLIGHT
TZOFFSETFROM:-0500
TZOFFSETTO:-0400
TZNAME:EDT
DTSTART:20230312T070000
END:DAYLIGHT
BEGIN:STANDARD
TZOFFSETFROM:-0400
TZOFFSETTO:-0500
TZNAME:EST
DTSTART:20231105T060000
END:STANDARD
BEGIN:DAYLIGHT
TZOFFSETFROM:-0500
TZOFFSETTO:-0400
TZNAME:EDT
DTSTART:20240310T070000
END:DAYLIGHT
BEGIN:STANDARD
TZOFFSETFROM:-0400
TZOFFSETTO:-0500
TZNAME:EST
DTSTART:20241103T060000
END:STANDARD
BEGIN:DAYLIGHT
TZOFFSETFROM:-0500
TZOFFSETTO:-0400
TZNAME:EDT
DTSTART:20250309T070000
END:DAYLIGHT
BEGIN:STANDARD
TZOFFSETFROM:-0400
TZOFFSETTO:-0500
TZNAME:EST
DTSTART:20251102T060000
END:STANDARD
END:VTIMEZONE
BEGIN:VEVENT
DTSTART;TZID=America/New_York:20241101T093000
DTEND;TZID=America/New_York:20241101T113000
DTSTAMP:20260421T115141
CREATED:20241018T142318Z
LAST-MODIFIED:20241018T142318Z
UID:10000197-1730453400-1730460600@namar.org
SUMMARY:NAMAR November Connect
DESCRIPTION:November Connect / November 1\, 2024 \n9:30 am – Registration & Networking\n10:00 am – Program\nLocation: Rhodes Jordan Park\n100 E Crogan Street\nLawrenceville\, GA 30046\nREGISTER ONLINE \n\nMarketing Masterminds\n\n\n\nHow to maintain brand message across all marketing channels\nBasics on tracking performance of marketing efforts\nUnique\, budget-friendly pop-bys to give to your clients and customers that will make a lasting impression\nBest practices on when and how often to do pop-by’s to maximize client retention and referrals\n\nSpeakers:\n\n\n\n\n\nSusan Kliesen – RE/MAX Center\nEmma Towers – O’Kelley & Sorohan\nMarla & Michael Moulder – Keller Williams Community Partners\nMeredith Willis – RE/MAX Center\nAshley Greenwald – Heartland Real Estate
URL:https://namar.org/event/namar-november-connect/
LOCATION:Rhodes Jordan Park Community\, 100 E Crogan Street\, Lawrenceville\, GA\, 30046\, United States
CATEGORIES:NAMAR Events
ATTACH;FMTTYPE=image/jpeg:https://namar.org/wp-content/uploads/2024/10/November-Connect-2024.jpg
ORGANIZER;CN="NAMAR":MAILTO:events@namar.org
END:VEVENT
BEGIN:VEVENT
DTSTART;TZID=America/New_York:20241106T100000
DTEND;TZID=America/New_York:20241106T130000
DTSTAMP:20260421T115141
CREATED:20241001T185915Z
LAST-MODIFIED:20241001T185915Z
UID:10000192-1730887200-1730898000@namar.org
SUMMARY:In-Person Code of Ethics
DESCRIPTION:Code of Ethics / November 6\, 2024\n10:00 am – 1:00 pm\n$15 Members / $20 Non Members\n3 CE Credits\nInstructor: Tom Gillette\nREGISTER ONLINE
URL:https://namar.org/event/in-person-code-of-ethics-5/
LOCATION:NAMAR Lower Level Classroom\, 2145 Duluth Highway\, Duluth\, GA\, 30097\, United States
CATEGORIES:Code of Ethics
ATTACH;FMTTYPE=image/jpeg:https://namar.org/wp-content/uploads/2022/12/code-of-ethics.jpg
ORGANIZER;CN="NAMAR":MAILTO:events@namar.org
END:VEVENT
BEGIN:VEVENT
DTSTART;TZID=America/New_York:20241107T100000
DTEND;TZID=America/New_York:20241107T130000
DTSTAMP:20260421T115141
CREATED:20230216T184330Z
LAST-MODIFIED:20240924T141408Z
UID:10000041-1730973600-1730984400@namar.org
SUMMARY:CE CLASS: The This and That of Mortgages
DESCRIPTION:The Course will focus on the basic concept of mortgages\, the most common loan products and the advantages and disadvantages of each one. In depth discussions about interest rates\, historical data\, and the impact rates have on buyer’s cash to close\, renting versus buying and specialty loan program. \nInstructor: Chris Shumate\, Fairway Mortgage \n$20 Members / $30 Non Members / 3 CE Credits \nREGISTER ONLINE
URL:https://namar.org/event/ce-class-the-this-and-that-of-mortgages-2/
LOCATION:NAMAR Lower Level Classroom\, 2145 Duluth Highway\, Duluth\, GA\, 30097\, United States
CATEGORIES:NAMAR Education
ATTACH;FMTTYPE=image/jpeg:https://namar.org/wp-content/uploads/2022/12/ce-class.jpg
ORGANIZER;CN="NAMAR":MAILTO:events@namar.org
END:VEVENT
BEGIN:VEVENT
DTSTART;TZID=America/New_York:20241112T100000
DTEND;TZID=America/New_York:20241112T130000
DTSTAMP:20260421T115141
CREATED:20241011T182633Z
LAST-MODIFIED:20241011T182633Z
UID:10000196-1731405600-1731416400@namar.org
SUMMARY:CE CLASS: Understanding Older Homes
DESCRIPTION:Understanding Older Homes / November 12\, 2024\n10:00 am – 1:00 pm\n$20 Members / $30 Non Members\n3 CE Credits\nInstructor: Bob McDonough \nREGISTER ONLINE
URL:https://namar.org/event/ce-class-understanding-older-homes/
LOCATION:NAMAR Lower Level Classroom\, 2145 Duluth Highway\, Duluth\, GA\, 30097\, United States
CATEGORIES:NAMAR Education
ATTACH;FMTTYPE=image/jpeg:https://namar.org/wp-content/uploads/2022/12/ce-class.jpg
ORGANIZER;CN="NAMAR":MAILTO:events@namar.org
END:VEVENT
BEGIN:VEVENT
DTSTART;TZID=America/New_York:20241112T130000
DTEND;TZID=America/New_York:20241112T150000
DTSTAMP:20260421T115141
CREATED:20241021T191849Z
LAST-MODIFIED:20241021T191849Z
UID:10000199-1731416400-1731423600@namar.org
SUMMARY:Virtual Webinar: Lead Generation
DESCRIPTION:Virtual Webinar: Lead Generation / November 12\, 2024\nStarts at 1:00 pm\nLEVERAGING SOCIAL MEDIA MARKETING: REAL ESTATE STRATEGIES THAT WORK!\nREGISTER ONLINE \nEnergize Your Business!\n➢ Rock Star Coaches!\n➢ Fun & Exciting!\n➢ Motivational Experience! \nSocial Media Best Practices\n• Facebook\, Instagram\, LinkedIn\, X\n• Stories and Reels\n• Facebook Advertising\n• ChatGPT (AI) Integration\n• Video Marketing\n• SEO\, Blogging for Success & More
URL:https://namar.org/event/virtual-webinar-lead-generation/
LOCATION:Zoom (Online)\, United States
CATEGORIES:NAMAR Education
ATTACH;FMTTYPE=image/jpeg:https://namar.org/wp-content/uploads/2022/12/workshop.jpg
ORGANIZER;CN="NAMAR":MAILTO:events@namar.org
END:VEVENT
BEGIN:VEVENT
DTSTART;TZID=America/New_York:20241113T100000
DTEND;TZID=America/New_York:20241113T130000
DTSTAMP:20260421T115141
CREATED:20230213T192735Z
LAST-MODIFIED:20241004T135300Z
UID:10000037-1731492000-1731502800@namar.org
SUMMARY:CE CLASS: What You Need to Know About Financing
DESCRIPTION:What You Need to Know About Financing / November 13\, 2024 \nThis course presents fundamental concepts regarding the mortgage process. The course will cover the process beginning with prequalification through closing. Attendees will also be provided with valuable market updates including inventory\, interest rates\, home values and the cost of waiting to buy. \nInstructor: Chris Shumate\, Fairway Mortgage \n$20 Members / $30 Non Members\n3 CE Credits \nREGISTER ONLINE
URL:https://namar.org/event/ce-class-what-you-need-to-know-about-financing/
LOCATION:NAMAR Lower Level Classroom\, 2145 Duluth Highway\, Duluth\, GA\, 30097\, United States
CATEGORIES:NAMAR Education
ATTACH;FMTTYPE=image/jpeg:https://namar.org/wp-content/uploads/2022/12/ce-class.jpg
ORGANIZER;CN="NAMAR":MAILTO:events@namar.org
END:VEVENT
BEGIN:VEVENT
DTSTART;TZID=America/New_York:20241114T080000
DTEND;TZID=America/New_York:20241203T170000
DTSTAMP:20260421T115141
CREATED:20241114T161650Z
LAST-MODIFIED:20241114T161650Z
UID:10000211-1731571200-1733245200@namar.org
SUMMARY:Sheltering Arms Toy Drive
DESCRIPTION:CALLING ALL ELVES! It’s time to bring smiles to the kids at Sheltering Arms! Santa needs you! It’s never been easier to be an elf! Simply click the link: https://amzn.to/3ANKPFv and this will take you to our Amazon Wish List. Now\, choose a gift or gifts from the link and click to purchase! All gifts on the list are set up to be sent directly to NAMAR. Please order in time for delivery no later than December 3rd\, 2024! Thank you in advance for your help!!!
URL:https://namar.org/event/sheltering-arms-toy-drive/
LOCATION:GA
CATEGORIES:NAMAR Events
ATTACH;FMTTYPE=image/jpeg:https://namar.org/wp-content/uploads/2024/11/toy-drive-2024.jpg
ORGANIZER;CN="NAMAR":MAILTO:events@namar.org
END:VEVENT
BEGIN:VEVENT
DTSTART;TZID=America/New_York:20241118T100000
DTEND;TZID=America/New_York:20241118T110000
DTSTAMP:20260421T115141
CREATED:20241008T150953Z
LAST-MODIFIED:20241009T162713Z
UID:10000195-1731924000-1731927600@namar.org
SUMMARY:WORKSHOP: Estate Planning
DESCRIPTION:Estate Planning / November 18\, 2024\n10:00 am – 11:00 am\nFREE / NO CE Credits\nInstructor: Robert Cox\nREGISTER ONLINE \nWills. Trusts. Beneficiaries. These aren’t just for the ultra-rich. It’s a common misconception that only the wealthy need to bother with wills and trusts. The truth is\, without careful planning\, the family you leave behind could face unnecessary difficulties when it comes time for them to divide up your assets. \n It’s easy to think that your family will figure it out after you’re gone\, and that may be true. But clearly communicating your wishes and setting things up to transfer smoothly may go a long way toward keeping harmony in the family. \nNo Plan for Your Estate? Uncle Sam Has One. The government sets estate tax rates\, but careful preparation can help you minimize the impact on your heirs. What’s your vision for your estate? Enhanced/Estate planning gives you more control over who gets what and how much – and that includes Uncle Sam. \nLearn how enhanced and estate planning may help you: \n\nTransfer assets efficiently\nReduce taxes\nLeave a legacy\nPreserve family harmony.
URL:https://namar.org/event/workshop-estate-planning/
LOCATION:NAMAR Lower Level Classroom\, 2145 Duluth Highway\, Duluth\, GA\, 30097\, United States
CATEGORIES:NAMAR Education
ATTACH;FMTTYPE=image/jpeg:https://namar.org/wp-content/uploads/2022/12/workshop.jpg
ORGANIZER;CN="NAMAR":MAILTO:events@namar.org
END:VEVENT
BEGIN:VEVENT
DTSTART;TZID=America/New_York:20241121T100000
DTEND;TZID=America/New_York:20241121T140000
DTSTAMP:20260421T115141
CREATED:20241007T192322Z
LAST-MODIFIED:20241007T192322Z
UID:10000194-1732183200-1732197600@namar.org
SUMMARY:CE CLASS: Least Understood and Most Violated Laws in Real Estate
DESCRIPTION:Least Understood and Most Violated Laws in Real Estate / November 21\, 2024\n10:00 am – 2:00 pm\n4 CE Credits\nInstructor: Mark Teytel \nREGISTER ONLINE \nIn this CE class\, you’ll get an overview and analysis of the Federal and Georgia laws\, statutes\, regulations\, and rules that govern residential real estate transactions/mortgages. \nThis course is clearly broken down into segments that explain concepts like redlining\, RESPA prohibitions\, kickbacks and compensation\, and permitted and prohibited duties. We’ll take a look at the origins of these regulations\, the their rationale\, and significance to the integrity of the real estate purchase and financing process. \nWe’ll also take a look at the impact of Federal regulations on the sales process of Georgia Real Estate transactions. Ethical issues pertaining to prohibited acts\, fairness in lending\, fraud detection\, fair and accurate advertising\, predatory lending\, and steering will all be addressed. Having a solid understanding of industry laws can help you feel more confident when making professional decisions\, and better understand what can be done and what can’t.
URL:https://namar.org/event/ce-class-least-understood-and-most-violated-laws-in-real-estate-2/
LOCATION:NAMAR Lower Level Classroom\, 2145 Duluth Highway\, Duluth\, GA\, 30097\, United States
CATEGORIES:NAMAR Education
ATTACH;FMTTYPE=image/jpeg:https://namar.org/wp-content/uploads/2022/12/ce-class.jpg
ORGANIZER;CN="NAMAR":MAILTO:events@namar.org
END:VEVENT
BEGIN:VEVENT
DTSTART;TZID=America/New_York:20241127T140000
DTEND;TZID=America/New_York:20241202T100000
DTSTAMP:20260421T115141
CREATED:20241126T193855Z
LAST-MODIFIED:20241126T193855Z
UID:10000214-1732716000-1733133600@namar.org
SUMMARY:NAMAR Office Closed for Holidays
DESCRIPTION:The NAMAR Office will close at 2 pm on Wednesday\, November 27th and reopen at 10 am on Monday\, December 2nd. HAPPY THANKSGIVING!
URL:https://namar.org/event/namar-office-closed-for-holidays/
LOCATION:GA
ATTACH;FMTTYPE=image/png:https://namar.org/wp-content/uploads/2024/11/THANKSGIVING.png
ORGANIZER;CN="NAMAR":MAILTO:events@namar.org
END:VEVENT
END:VCALENDAR