BEGIN:VCALENDAR
VERSION:2.0
PRODID:-//NAMAR - ECPv6.15.20//NONSGML v1.0//EN
CALSCALE:GREGORIAN
METHOD:PUBLISH
X-ORIGINAL-URL:https://namar.org
X-WR-CALDESC:Events for NAMAR
REFRESH-INTERVAL;VALUE=DURATION:PT1H
X-Robots-Tag:noindex
X-PUBLISHED-TTL:PT1H
BEGIN:VTIMEZONE
TZID:America/New_York
BEGIN:DAYLIGHT
TZOFFSETFROM:-0500
TZOFFSETTO:-0400
TZNAME:EDT
DTSTART:20220313T070000
END:DAYLIGHT
BEGIN:STANDARD
TZOFFSETFROM:-0400
TZOFFSETTO:-0500
TZNAME:EST
DTSTART:20221106T060000
END:STANDARD
BEGIN:DAYLIGHT
TZOFFSETFROM:-0500
TZOFFSETTO:-0400
TZNAME:EDT
DTSTART:20230312T070000
END:DAYLIGHT
BEGIN:STANDARD
TZOFFSETFROM:-0400
TZOFFSETTO:-0500
TZNAME:EST
DTSTART:20231105T060000
END:STANDARD
BEGIN:DAYLIGHT
TZOFFSETFROM:-0500
TZOFFSETTO:-0400
TZNAME:EDT
DTSTART:20240310T070000
END:DAYLIGHT
BEGIN:STANDARD
TZOFFSETFROM:-0400
TZOFFSETTO:-0500
TZNAME:EST
DTSTART:20241103T060000
END:STANDARD
END:VTIMEZONE
BEGIN:VEVENT
DTSTART;TZID=America/New_York:20230411T100000
DTEND;TZID=America/New_York:20230411T130000
DTSTAMP:20260419T151126
CREATED:20230213T193402Z
LAST-MODIFIED:20230310T162958Z
UID:10000038-1681207200-1681218000@namar.org
SUMMARY:Code of Ethics (Spanish Translation)
DESCRIPTION:This course satisfies the NAR Requirement for Cycle 7. The course will be translated in Spanish. \nInstructor: Mary Elena Ponce\n$15 Members / $30 Non Members\n3 CE credits\nBreakfast will be provided \nREGISTER ONLINE
URL:https://namar.org/event/code-of-ethics-spanish-translation/
LOCATION:NAMAR Lower Level Classroom\, 2145 Duluth Highway\, Duluth\, GA\, 30097\, United States
CATEGORIES:NAMAR Education
ATTACH;FMTTYPE=image/jpeg:https://namar.org/wp-content/uploads/2022/12/code-of-ethics.jpg
ORGANIZER;CN="NAMAR":MAILTO:events@namar.org
END:VEVENT
BEGIN:VEVENT
DTSTART;TZID=America/New_York:20230413T100000
DTEND;TZID=America/New_York:20230413T130000
DTSTAMP:20260419T151126
CREATED:20230322T161152Z
LAST-MODIFIED:20230412T195542Z
UID:10000054-1681380000-1681390800@namar.org
SUMMARY:CANCELLED: What Your Buyers Really Want
DESCRIPTION:Join us as we determine the truth and psychology behind the motivations of buyers and how to create a sound business model for real estate professionals to keep our faith in buyers. \n10:00 AM – 1:00 PM\n$15 Members / $30 Non Members\nInstructor: Pyper Macloskie\, Silverton Mortgage\nREGISTER ONLINE \nLunch will be  provided.
URL:https://namar.org/event/ce-class-what-your-buyers-really-want/
LOCATION:NAMAR Lower Level Classroom\, 2145 Duluth Highway\, Duluth\, GA\, 30097\, United States
CATEGORIES:NAMAR Education
ATTACH;FMTTYPE=image/jpeg:https://namar.org/wp-content/uploads/2022/12/ce-class.jpg
ORGANIZER;CN="NAMAR":MAILTO:events@namar.org
END:VEVENT
BEGIN:VEVENT
DTSTART;TZID=America/New_York:20230414T100000
DTEND;TZID=America/New_York:20230414T113000
DTSTAMP:20260419T151126
CREATED:20230313T143618Z
LAST-MODIFIED:20230405T153859Z
UID:10000052-1681466400-1681471800@namar.org
SUMMARY:NAMAR April Connect
DESCRIPTION:Fair Housing Month\nApril 14\, 2023\n10:00 am\n$25 Members / $35 Non Member\nLocation: Tannery Row Ale House\n554 W Main St. Buford\, GA 30518\nREGISTER ONLINE\n\nGuest Speakers:\nArchie Emerson – President of the Empire Board of REALIST\nWesley Myrick – Senior Policy Analyst\, City of Atlanta Housing & Community Development\nLisa Oden – NAMAR 2021 President and GAR Forms Committee\n\nHosted by NAMAR’s Programs and RIDE Committee
URL:https://namar.org/event/namar-april-connect-2/
LOCATION:Tannery Row Ale House\, 554 W Main Street\, Buford\, GA\, 30518\, United States
CATEGORIES:NAMAR Events
ATTACH;FMTTYPE=image/png:https://namar.org/wp-content/uploads/2023/03/Updated-Fair-Housing-Event-Flyer.png
ORGANIZER;CN="NAMAR":MAILTO:events@namar.org
END:VEVENT
BEGIN:VEVENT
DTSTART;TZID=America/New_York:20230417T100000
DTEND;TZID=America/New_York:20230417T113000
DTSTAMP:20260419T151126
CREATED:20230330T144717Z
LAST-MODIFIED:20230403T161459Z
UID:10000056-1681725600-1681731000@namar.org
SUMMARY:ZOOM WORKSHOP: The Single Most Effective Tool for Generating NEW Business
DESCRIPTION:ZOOM WORKSHOP: The Single Most Effective Tool for Generating NEW Business / April 17\, 2023\n10:00 AM\nFREE / NO CE CREDIT\nCLICK HERE TO REGISTER \nWith so many new tech solutions available to realtors it can be difficult to determine what’s truly essential vs just nice-to-have. And with limited budget it’s not realistic to think you can have it all. Or can you?… \nOn April 17th the Chime team will be LIVE\, helping you to cut through the noise and identify the most important tech needed to capture and convert leads into NEW business. We’ll discuss— \n• How to simplify your real estate tech stack\n• Moving from a lead generation mindset to “business generation”\n• Top tools to maximize lead conversion\n• Growing your business on auto-pilot with the latest AI technology\n• The advantages of an all-in-one CRM platform
URL:https://namar.org/event/zoom-workshop-the-single-most-effective-tool-for-generating-new-business/
LOCATION:Zoom (Online)\, United States
CATEGORIES:NAMAR Education
ATTACH;FMTTYPE=image/jpeg:https://namar.org/wp-content/uploads/2022/12/workshop.jpg
ORGANIZER;CN="NAMAR":MAILTO:events@namar.org
END:VEVENT
BEGIN:VEVENT
DTSTART;TZID=America/New_York:20230418T093000
DTEND;TZID=America/New_York:20230418T123000
DTSTAMP:20260419T151126
CREATED:20230309T144920Z
LAST-MODIFIED:20230309T144920Z
UID:10000049-1681810200-1681821000@namar.org
SUMMARY:CE CLASS: Introduction to connectMLS
DESCRIPTION:Introduction to connectMLS / April 18\, 2023\n9:30 AM – 12:30 PM\n$15 Members / $30 Non Members\n3 CE Credits\nInstructor: Andre Tillman\, GAMLS \nREGISTER ONLINE \nCreated with the end user in mind\, connectMLS’s intuitive\, feature rich\, and mobile friendly solution delivers real estate data via a modern online experience. Built using responsive design technology\, the connectMLS platform automatically acclimates to any screen size\, or resolution\, to seamlessly adapt across all devices. Click Here for Class Flyer
URL:https://namar.org/event/ce-class-introduction-to-connectmls/
LOCATION:NAMAR Lower Level Classroom\, 2145 Duluth Highway\, Duluth\, GA\, 30097\, United States
CATEGORIES:NAMAR Education
ATTACH;FMTTYPE=image/jpeg:https://namar.org/wp-content/uploads/2022/12/ce-class.jpg
ORGANIZER;CN="NAMAR":MAILTO:events@namar.org
END:VEVENT
BEGIN:VEVENT
DTSTART;TZID=America/New_York:20230419T100000
DTEND;TZID=America/New_York:20230419T130000
DTSTAMP:20260419T151126
CREATED:20230301T183939Z
LAST-MODIFIED:20230301T183939Z
UID:10000045-1681898400-1681909200@namar.org
SUMMARY:CE CLASS: License Law
DESCRIPTION:April 19\, 2023\n10:00 AM – 1:00 PM\n$15 Members / $20 Non Members\n3 CE Credits\nInstructor: Karen Loftus\nREGISTER ONLINE
URL:https://namar.org/event/ce-class-license-law/
LOCATION:NAMAR Lower Level Classroom\, 2145 Duluth Highway\, Duluth\, GA\, 30097\, United States
CATEGORIES:NAMAR Education
ATTACH;FMTTYPE=image/jpeg:https://namar.org/wp-content/uploads/2022/12/ce-class.jpg
ORGANIZER;CN="NAMAR":MAILTO:events@namar.org
END:VEVENT
BEGIN:VEVENT
DTSTART;TZID=America/New_York:20230420T110000
DTEND;TZID=America/New_York:20230420T150000
DTSTAMP:20260419T151126
CREATED:20230217T133915Z
LAST-MODIFIED:20230310T170815Z
UID:10000042-1681988400-1682002800@namar.org
SUMMARY:NAMAR Partners in Business EXPO
DESCRIPTION:Join us at Coolray Field in Lawrenceville for a day of fun. \n\nGrand Prize drawing $1000\nSecond chance drawing $500\nFour $100 drawings\nFree Admission\nFree lunch (up to $12)\nFree parking\n\nMust Pre-registration for grand prize drawing (Registration Closes on 4/10/2023).\nCLICK HERE TO PREREGISTER FOR YOUR CHANCE TO WIN BIG! \nInterested in a booth? Contact Angie Walston at angie@namar.org or click here to complete a booth registration.
URL:https://namar.org/event/namar-partners-in-business-expo/
LOCATION:Coolray Field\, 2500 Buford Dr.\, Lawrenceville\, GA\, 30043\, United States
CATEGORIES:NAMAR Events
ATTACH;FMTTYPE=image/jpeg:https://namar.org/wp-content/uploads/2023/02/2023-NAMAR-Expo-Logo-1-scaled.jpg
ORGANIZER;CN="NAMAR":MAILTO:events@namar.org
END:VEVENT
BEGIN:VEVENT
DTSTART;TZID=America/New_York:20230422T100000
DTEND;TZID=America/New_York:20230422T140000
DTSTAMP:20260419T151126
CREATED:20230310T175805Z
LAST-MODIFIED:20230310T175805Z
UID:10000050-1682157600-1682172000@namar.org
SUMMARY:Fundraiser for Family Promise
DESCRIPTION:NAMAR is partnering with Family Promise of Gwinnett for the 2023 Lawrenceville Bed Race on April 22nd in downtown Lawrenceville! Family Promise of Gwinnett provides temporary housing for children and their families experiencing homelessness. Since opening in 2005\, Family Promise has helped over 200 families with children have a safe place to stay while transitioning from homelessness into stable housing. \nJoin us in our efforts as we work together to make the lives of those around us better! Click HERE to donate! \nHelp us reach our goal of $1500.
URL:https://namar.org/event/fundraiser-for-family-promise/
LOCATION:GA
CATEGORIES:NAMAR Events
ATTACH;FMTTYPE=image/png:https://namar.org/wp-content/uploads/2023/03/Family-Promise-Social-Media-Post.png
ORGANIZER;CN="NAMAR":MAILTO:events@namar.org
END:VEVENT
BEGIN:VEVENT
DTSTART;TZID=America/New_York:20230424T120000
DTEND;TZID=America/New_York:20230424T150000
DTSTAMP:20260419T151126
CREATED:20230331T160058Z
LAST-MODIFIED:20230405T141714Z
UID:10000057-1682337600-1682348400@namar.org
SUMMARY:Marketing 101 Technology
DESCRIPTION:Marketing 101 (Marketing to get you business NOW) / April 24\, 2023\n12 Noon – 3:00 PM\nFREE to Members / $15 Non Members (refunded at check-in)\n3 CE Credits\nInstructor: Nakia Brooks\nREGISTER ONLINE \nThese three hours will be all things marketing to get you business NOW.\nWe will discuss Google My Business\, Marketing for listings and daily practices to get business instantly. \nHour 1 – Google my Business\nHour 2 – Marketing for Listings\nHour 3 – Marketing for Buyers and implementation \nJoin us to take your business to the next level. Generate your own leads! Marekting Techniques with results. \nLearning Benefits: \n\nWhere to begin marketing\nFarming Strategies\n\nBring your laptops!
URL:https://namar.org/event/marketing-101-technology/
LOCATION:NAMAR Lower Level Classroom\, 2145 Duluth Highway\, Duluth\, GA\, 30097\, United States
CATEGORIES:NAMAR Education
ATTACH;FMTTYPE=image/jpeg:https://namar.org/wp-content/uploads/2022/12/ce-class.jpg
ORGANIZER;CN="NAMAR":MAILTO:events@namar.org
END:VEVENT
BEGIN:VEVENT
DTSTART;TZID=America/New_York:20230426T100000
DTEND;TZID=America/New_York:20230426T133000
DTSTAMP:20260419T151126
CREATED:20221224T061128Z
LAST-MODIFIED:20230301T203907Z
UID:10000005-1682503200-1682515800@namar.org
SUMMARY:In-Person Code of Ethics and Orientation
DESCRIPTION:April 26\, 2023\nCode of Ethics: 10:00 AM – 1:00 PM\nOrientation: 1PM – 1:30PM\nInstructor: Lisa Oden\n$15 Member / $30 Non Member / 3 CE Credits\nREGISTER ONLINE\nLocation: NAMAR (Lower Level Classroom)\n2145 Duluth Highway\, Duluth\, GA 30097
URL:https://namar.org/event/in-person-code-of-ethics-3/
LOCATION:NAMAR Lower Level Classroom\, 2145 Duluth Highway\, Duluth\, GA\, 30097\, United States
CATEGORIES:NAMAR Education
ATTACH;FMTTYPE=image/jpeg:https://namar.org/wp-content/uploads/2022/12/code-of-ethics.jpg
ORGANIZER;CN="NAMAR":MAILTO:events@namar.org
END:VEVENT
BEGIN:VEVENT
DTSTART;TZID=America/New_York:20230427T100000
DTEND;TZID=America/New_York:20230427T111500
DTSTAMP:20260419T151126
CREATED:20221226T061917Z
LAST-MODIFIED:20230202T073155Z
UID:10000022-1682589600-1682594100@namar.org
SUMMARY:FREE SEMINAR: Retirement Planning for Women
DESCRIPTION:Retirement Planning for Women / April 27\, 2023\n10:00 am – 11:15 am\n$15 – Refunded at Check-In / NO CE Credit\nInstructor: Robert Cox\nREGISTER ONLINE\nWomen have more challenges in retirement planning than men. Over 85% of Americans over the age of 85 are women.  This workshop covers the areas of 1) providing funding for their longer life expectancy\, 2) identifying the higher Long Term Care and medical costs\, 3) tips on assembling a general plan.  In addition we discuss difficult  issues of “Do I  retire early to care for a parent?”\, “dignity & independence in retirement” and more.   Additional financial concerns are covered so that the attendee can begin formulating their unique plan. Education-only course provided by Robert Cox\,  RICP© CFF©    “The Retirement Educator” a Retirement Strategies Specialist and Certified Financial Fiduciary
URL:https://namar.org/event/free-seminar-retirement-planning-for-women/
LOCATION:NAMAR Lower Level Classroom\, 2145 Duluth Highway\, Duluth\, GA\, 30097\, United States
CATEGORIES:NAMAR Education
ATTACH;FMTTYPE=image/jpeg:https://namar.org/wp-content/uploads/2022/12/workshop.jpg
ORGANIZER;CN="NAMAR":MAILTO:events@namar.org
END:VEVENT
END:VCALENDAR