BEGIN:VCALENDAR
VERSION:2.0
PRODID:-//NAMAR - ECPv6.15.20//NONSGML v1.0//EN
CALSCALE:GREGORIAN
METHOD:PUBLISH
X-ORIGINAL-URL:https://namar.org
X-WR-CALDESC:Events for NAMAR
REFRESH-INTERVAL;VALUE=DURATION:PT1H
X-Robots-Tag:noindex
X-PUBLISHED-TTL:PT1H
BEGIN:VTIMEZONE
TZID:America/New_York
BEGIN:DAYLIGHT
TZOFFSETFROM:-0500
TZOFFSETTO:-0400
TZNAME:EDT
DTSTART:20240310T070000
END:DAYLIGHT
BEGIN:STANDARD
TZOFFSETFROM:-0400
TZOFFSETTO:-0500
TZNAME:EST
DTSTART:20241103T060000
END:STANDARD
BEGIN:DAYLIGHT
TZOFFSETFROM:-0500
TZOFFSETTO:-0400
TZNAME:EDT
DTSTART:20250309T070000
END:DAYLIGHT
BEGIN:STANDARD
TZOFFSETFROM:-0400
TZOFFSETTO:-0500
TZNAME:EST
DTSTART:20251102T060000
END:STANDARD
BEGIN:DAYLIGHT
TZOFFSETFROM:-0500
TZOFFSETTO:-0400
TZNAME:EDT
DTSTART:20260308T070000
END:DAYLIGHT
BEGIN:STANDARD
TZOFFSETFROM:-0400
TZOFFSETTO:-0500
TZNAME:EST
DTSTART:20261101T060000
END:STANDARD
END:VTIMEZONE
BEGIN:VEVENT
DTSTART;TZID=America/New_York:20250206T100000
DTEND;TZID=America/New_York:20250206T130000
DTSTAMP:20260420T140006
CREATED:20250128T212506Z
LAST-MODIFIED:20250128T212506Z
UID:10000228-1738836000-1738846800@namar.org
SUMMARY:Remine: Growing Your Business Through Farming
DESCRIPTION:Date: Thursday\, February 6\, 2025 \nTime: 10:00 AM to 1:00 PM \nLocation: FMLS NE Service Ctr. – 2nd floor\nFMLS NE Service Ctr. (2nd floor)\n2250 Satellite Blvd\nSte. 215\nDuluth\, GA 30097 \nREGISTER HERE
URL:https://namar.org/event/remine-growing-your-business-through-farming/
LOCATION:FMLS Duluth Office\, 2250 Satellite Blvd NW ste. 215\, Duluth\, GA\, 30097\, United States
CATEGORIES:NAMAR Education
ORGANIZER;CN="NAMAR":MAILTO:events@namar.org
END:VEVENT
BEGIN:VEVENT
DTSTART;TZID=America/New_York:20250227T100000
DTEND;TZID=America/New_York:20250227T110000
DTSTAMP:20260420T140006
CREATED:20250205T195816Z
LAST-MODIFIED:20250205T200922Z
UID:10000245-1740650400-1740654000@namar.org
SUMMARY:AI Magic for Real Estate
DESCRIPTION:DATE: Thursday\, February 27\, 2025 \nTIME: 10AM (1 hr. session) \nLOCATION: This is a virtual meeting \nAbout This Webinar\n\n\nEverywhere we look\, AI is a hot topic. In this webinar\, we’ll dive into easy ways to level up your marketing\, including:\n–>Using AI to create content for email\, text\, and social media\n–>Best practices to keep authenticity in your brand\n–>Tools to make your life easier\, build your list\, and help you stand out from the competition \nREGISTER HERE
URL:https://namar.org/event/ai-magic-for-real-estate/
LOCATION:Zoom (Online)\, United States
CATEGORIES:NAMAR Education
ATTACH;FMTTYPE=application/pdf:https://namar.org/wp-content/uploads/2025/02/RE-Tech-Academy-2272025-webinar-flyer.pdf
ORGANIZER;CN="NAMAR":MAILTO:events@namar.org
END:VEVENT
END:VCALENDAR