BEGIN:VCALENDAR
VERSION:2.0
PRODID:-//NAMAR - ECPv6.15.20//NONSGML v1.0//EN
CALSCALE:GREGORIAN
METHOD:PUBLISH
X-WR-CALNAME:NAMAR
X-ORIGINAL-URL:https://namar.org
X-WR-CALDESC:Events for NAMAR
REFRESH-INTERVAL;VALUE=DURATION:PT1H
X-Robots-Tag:noindex
X-PUBLISHED-TTL:PT1H
BEGIN:VTIMEZONE
TZID:America/New_York
BEGIN:DAYLIGHT
TZOFFSETFROM:-0500
TZOFFSETTO:-0400
TZNAME:EDT
DTSTART:20250309T070000
END:DAYLIGHT
BEGIN:STANDARD
TZOFFSETFROM:-0400
TZOFFSETTO:-0500
TZNAME:EST
DTSTART:20251102T060000
END:STANDARD
BEGIN:DAYLIGHT
TZOFFSETFROM:-0500
TZOFFSETTO:-0400
TZNAME:EDT
DTSTART:20260308T070000
END:DAYLIGHT
BEGIN:STANDARD
TZOFFSETFROM:-0400
TZOFFSETTO:-0500
TZNAME:EST
DTSTART:20261101T060000
END:STANDARD
BEGIN:DAYLIGHT
TZOFFSETFROM:-0500
TZOFFSETTO:-0400
TZNAME:EDT
DTSTART:20270314T070000
END:DAYLIGHT
BEGIN:STANDARD
TZOFFSETFROM:-0400
TZOFFSETTO:-0500
TZNAME:EST
DTSTART:20271107T060000
END:STANDARD
END:VTIMEZONE
BEGIN:VEVENT
DTSTART;TZID=America/New_York:20260317T120000
DTEND;TZID=America/New_York:20260317T140000
DTSTAMP:20260419T085642
CREATED:20260302T180116Z
LAST-MODIFIED:20260302T180116Z
UID:10000325-1773748800-1773756000@namar.org
SUMMARY:NAMAR Brokers Council
DESCRIPTION:☘️ Get Your Lucky Break at Brokers Council! ☘️ \nJoin us for a St. Patrick’s Day–themed Brokers Council Meeting filled with insight\, networking\, and a little extra green on the side! This festive gathering will feature a catered lunch and an engaging guest speaker\, Nakia Brooks\, 2026 Vice President of Professional Development for the Georgia Association of REALTORS® and Co-Owner of Heartland Real Estate. \nMarch 17\, 2026Noon – 2:00 PM \nNakia will share timely leadership insights\, professional development strategies\, and statewide perspective you won’t want to miss—making this meeting as valuable as it is festive. \nThis event is a NAMAR Member benefit\, exclusively for Broker REALTOR® Members —so consider this your lucky invitation to connect\, learn\, and lead. \nLocation: Meritage Homes\, Martin Springs\n866 Misty Hollow Trail\nLawrenceville\, GA 30045 \n✨ Wear your green\, bring your questions\, and join us for a shamrock-worthy Brokers Council! \nREGISTER ONLINE
URL:https://namar.org/event/namar-brokers-council/
LOCATION:GA
ORGANIZER;CN="NAMAR":MAILTO:events@namar.org
END:VEVENT
END:VCALENDAR