BEGIN:VCALENDAR
VERSION:2.0
PRODID:-//NAMAR - ECPv6.15.20//NONSGML v1.0//EN
CALSCALE:GREGORIAN
METHOD:PUBLISH
X-WR-CALNAME:NAMAR
X-ORIGINAL-URL:https://namar.org
X-WR-CALDESC:Events for NAMAR
REFRESH-INTERVAL;VALUE=DURATION:PT1H
X-Robots-Tag:noindex
X-PUBLISHED-TTL:PT1H
BEGIN:VTIMEZONE
TZID:America/New_York
BEGIN:DAYLIGHT
TZOFFSETFROM:-0500
TZOFFSETTO:-0400
TZNAME:EDT
DTSTART:20250309T070000
END:DAYLIGHT
BEGIN:STANDARD
TZOFFSETFROM:-0400
TZOFFSETTO:-0500
TZNAME:EST
DTSTART:20251102T060000
END:STANDARD
BEGIN:DAYLIGHT
TZOFFSETFROM:-0500
TZOFFSETTO:-0400
TZNAME:EDT
DTSTART:20260308T070000
END:DAYLIGHT
BEGIN:STANDARD
TZOFFSETFROM:-0400
TZOFFSETTO:-0500
TZNAME:EST
DTSTART:20261101T060000
END:STANDARD
BEGIN:DAYLIGHT
TZOFFSETFROM:-0500
TZOFFSETTO:-0400
TZNAME:EDT
DTSTART:20270314T070000
END:DAYLIGHT
BEGIN:STANDARD
TZOFFSETFROM:-0400
TZOFFSETTO:-0500
TZNAME:EST
DTSTART:20271107T060000
END:STANDARD
END:VTIMEZONE
BEGIN:VEVENT
DTSTART;TZID=America/New_York:20260313T100000
DTEND;TZID=America/New_York:20260313T130000
DTSTAMP:20260421T130541
CREATED:20260107T185509Z
LAST-MODIFIED:20260107T185509Z
UID:10000313-1773396000-1773406800@namar.org
SUMMARY:Circle of Excellence Champagne Luncheon
DESCRIPTION:Circle of Excellence Champagne Luncheon\nMarch 13\, 2026\n10 am – 1 pm\nLocation:\nWestin Atlanta Gwinnett\n6450 Sugarloaf Pkwy\nDuluth\, GA 30097 \nTickets: $65.00 \nREGISTER ONLINE
URL:https://namar.org/event/circle-of-excellence-champagne-luncheon/
LOCATION:The Westin Atlanta Gwinnett\, 6450 Sugarloaf Pkwy\, Duluth\, GA\, 30097\, United States
CATEGORIES:NAMAR Events
ATTACH;FMTTYPE=image/png:https://namar.org/wp-content/uploads/2024/02/award.png
ORGANIZER;CN="NAMAR":MAILTO:events@namar.org
END:VEVENT
END:VCALENDAR