BEGIN:VCALENDAR
VERSION:2.0
PRODID:-//NAMAR - ECPv6.15.20//NONSGML v1.0//EN
CALSCALE:GREGORIAN
METHOD:PUBLISH
X-ORIGINAL-URL:https://namar.org
X-WR-CALDESC:Events for NAMAR
REFRESH-INTERVAL;VALUE=DURATION:PT1H
X-Robots-Tag:noindex
X-PUBLISHED-TTL:PT1H
BEGIN:VTIMEZONE
TZID:America/New_York
BEGIN:DAYLIGHT
TZOFFSETFROM:-0500
TZOFFSETTO:-0400
TZNAME:EDT
DTSTART:20250309T070000
END:DAYLIGHT
BEGIN:STANDARD
TZOFFSETFROM:-0400
TZOFFSETTO:-0500
TZNAME:EST
DTSTART:20251102T060000
END:STANDARD
BEGIN:DAYLIGHT
TZOFFSETFROM:-0500
TZOFFSETTO:-0400
TZNAME:EDT
DTSTART:20260308T070000
END:DAYLIGHT
BEGIN:STANDARD
TZOFFSETFROM:-0400
TZOFFSETTO:-0500
TZNAME:EST
DTSTART:20261101T060000
END:STANDARD
BEGIN:DAYLIGHT
TZOFFSETFROM:-0500
TZOFFSETTO:-0400
TZNAME:EDT
DTSTART:20270314T070000
END:DAYLIGHT
BEGIN:STANDARD
TZOFFSETFROM:-0400
TZOFFSETTO:-0500
TZNAME:EST
DTSTART:20271107T060000
END:STANDARD
END:VTIMEZONE
BEGIN:VEVENT
DTSTART;TZID=America/New_York:20260101T080000
DTEND;TZID=America/New_York:20260131T233000
DTSTAMP:20260425T213252
CREATED:20251229T190430Z
LAST-MODIFIED:20251229T190430Z
UID:10000305-1767254400-1769902200@namar.org
SUMMARY:Now Accepting Applications for Circle of Excellence Awards
DESCRIPTION:We are Now Accepting Applications for the 2025 Circle of Excellence Awards\n\n\n\n\n\n\n\n\n\n\n\n\n\n\n\nThe name of the awards has been changed from Million Dollar Club to The Circle of Excellence Awards. \nHere is some additional important information about applying for the awards. \n\nThe application portal will be open from January 1\, – January 31\, 2026. NO APPLICATIONS WILL BE ACCEPTED AFTER JANUARY 31ST. NO EXCEPTIONS.\nThe application fee is $75 per application.\nThe payment of dues will be strictly enforced. 2026 DUES MUST BE PAID BY DECEMBER 31\, 2025. If 2026 Dues have not been paid by December 31\, 2025\, you will not be able to apply for the awards. NO EXCEPTIONS. We will no longer allow agents to pay their dues in January and apply for the awards.\nMust have been a REALTOR member in 2025.\nCode of Ethics must be taken between 2022 and 2025. If you have not taken Code of Ethics within this period\, you will not be able to apply. NO EXCEPTIONS.\n\nClick here for more information about applying for the NAMAR Awards. \n\n\n\n\n\n\n\n\n\n\n\n\n\n\n\n\n\n\n\n\n\n\n\n\n\n\n\n\nCLICK HERE TO APPLY
URL:https://namar.org/event/now-accepting-applications-for-circle-of-excellence-awards/
LOCATION:GA
ORGANIZER;CN="NAMAR":MAILTO:events@namar.org
END:VEVENT
BEGIN:VEVENT
DTSTART;TZID=America/New_York:20260121T090000
DTEND;TZID=America/New_York:20260128T160000
DTSTAMP:20260425T213252
CREATED:20251022T182157Z
LAST-MODIFIED:20260117T184028Z
UID:10000295-1768986000-1769616000@namar.org
SUMMARY:CANCELLED - 25 Hour Post License CE Course
DESCRIPTION:THIS CLASS HAS BEEN CANCELLED\n25 Hour Post License CE Course / January 21\, 22\, 27 and 28 (4 Days) / $150\nComplete a 25-hour post license course: This must be done within the first year of getting your salesperson’s license to keep it active.\nPass the course exam on the last day.\nFulfill CE requirements: The 25-hr post license course also counts for 9 hours of your 36 hour continuing education renewal requirement. You will need to complete 27 additional hours (to include 3 mandatory hours on license law) to meet the full CE requirement for your first renewal. \nInstructor: Lisa Oden \nMonday\, January 21 from 9am – 4pm\nTuesday\, January 22 from 9am – 4pm\nWednesday\, January 27 from 9am – 4pm\nThursday\, January 28 from 9am – 5pm (extra hour for exam) \nLocation: NAMAR Office\n5415 Sugarloaf Pkwy. Ste. 2205\nLawrenceville\, GA 30043 \nLunch provided.
URL:https://namar.org/event/25-hour-post-license-ce-course/
LOCATION:NAMAR Office\, 5415 Sugarloaf Pkwy\, Suite 2205\, Lawrenceville\, GA\, 30043\, United States
CATEGORIES:NAMAR Education
ATTACH;FMTTYPE=image/jpeg:https://namar.org/wp-content/uploads/2022/12/ce-class.jpg
ORGANIZER;CN="NAMAR":MAILTO:events@namar.org
END:VEVENT
END:VCALENDAR