BEGIN:VCALENDAR
VERSION:2.0
PRODID:-//NAMAR - ECPv6.15.20//NONSGML v1.0//EN
CALSCALE:GREGORIAN
METHOD:PUBLISH
X-WR-CALNAME:NAMAR
X-ORIGINAL-URL:https://namar.org
X-WR-CALDESC:Events for NAMAR
REFRESH-INTERVAL;VALUE=DURATION:PT1H
X-Robots-Tag:noindex
X-PUBLISHED-TTL:PT1H
BEGIN:VTIMEZONE
TZID:America/New_York
BEGIN:DAYLIGHT
TZOFFSETFROM:-0500
TZOFFSETTO:-0400
TZNAME:EDT
DTSTART:20240310T070000
END:DAYLIGHT
BEGIN:STANDARD
TZOFFSETFROM:-0400
TZOFFSETTO:-0500
TZNAME:EST
DTSTART:20241103T060000
END:STANDARD
BEGIN:DAYLIGHT
TZOFFSETFROM:-0500
TZOFFSETTO:-0400
TZNAME:EDT
DTSTART:20250309T070000
END:DAYLIGHT
BEGIN:STANDARD
TZOFFSETFROM:-0400
TZOFFSETTO:-0500
TZNAME:EST
DTSTART:20251102T060000
END:STANDARD
BEGIN:DAYLIGHT
TZOFFSETFROM:-0500
TZOFFSETTO:-0400
TZNAME:EDT
DTSTART:20260308T070000
END:DAYLIGHT
BEGIN:STANDARD
TZOFFSETFROM:-0400
TZOFFSETTO:-0500
TZNAME:EST
DTSTART:20261101T060000
END:STANDARD
END:VTIMEZONE
BEGIN:VEVENT
DTSTART;TZID=America/New_York:20250923T100000
DTEND;TZID=America/New_York:20250923T130000
DTSTAMP:20260425T231830
CREATED:20250204T213219Z
LAST-MODIFIED:20250917T155645Z
UID:10000241-1758621600-1758632400@namar.org
SUMMARY:What You Need To Know About Financing
DESCRIPTION:DATE: Tuesday\, September 23\, 2025 \nTIME: 10AM – 1PM \nLOCATION: NAMAR Office\n5415 Sugarloaf Pkwy\, Suite 2205\nLawrenceville\, GA 30043 \nDescription: The Course presents fundamental concepts regarding the mortgage process\, including market updates and creative financing options. The course will cover the process beginning with prequalification through closing. The attendees will be provided with a detailed description of the loan process along with the various loan programs available. We will discuss the most common causes of challenges that arise throughout the mortgage process and how these can be avoided. \nInstructor: Chris Shumate- Fairway Mortgage \nREGISTER HERE
URL:https://namar.org/event/what-you-need-to-know-about-financing/
LOCATION:NAMAR Office\, 5415 Sugarloaf Pkwy\, Suite 2205\, Lawrenceville\, GA\, 30043\, United States
ORGANIZER;CN="NAMAR":MAILTO:events@namar.org
END:VEVENT
END:VCALENDAR