BEGIN:VCALENDAR
VERSION:2.0
PRODID:-//NAMAR - ECPv6.15.20//NONSGML v1.0//EN
CALSCALE:GREGORIAN
METHOD:PUBLISH
X-WR-CALNAME:NAMAR
X-ORIGINAL-URL:https://namar.org
X-WR-CALDESC:Events for NAMAR
REFRESH-INTERVAL;VALUE=DURATION:PT1H
X-Robots-Tag:noindex
X-PUBLISHED-TTL:PT1H
BEGIN:VTIMEZONE
TZID:America/New_York
BEGIN:DAYLIGHT
TZOFFSETFROM:-0500
TZOFFSETTO:-0400
TZNAME:EDT
DTSTART:20240310T070000
END:DAYLIGHT
BEGIN:STANDARD
TZOFFSETFROM:-0400
TZOFFSETTO:-0500
TZNAME:EST
DTSTART:20241103T060000
END:STANDARD
BEGIN:DAYLIGHT
TZOFFSETFROM:-0500
TZOFFSETTO:-0400
TZNAME:EDT
DTSTART:20250309T070000
END:DAYLIGHT
BEGIN:STANDARD
TZOFFSETFROM:-0400
TZOFFSETTO:-0500
TZNAME:EST
DTSTART:20251102T060000
END:STANDARD
BEGIN:DAYLIGHT
TZOFFSETFROM:-0500
TZOFFSETTO:-0400
TZNAME:EDT
DTSTART:20260308T070000
END:DAYLIGHT
BEGIN:STANDARD
TZOFFSETFROM:-0400
TZOFFSETTO:-0500
TZNAME:EST
DTSTART:20261101T060000
END:STANDARD
END:VTIMEZONE
BEGIN:VEVENT
DTSTART;TZID=America/New_York:20250827T100000
DTEND;TZID=America/New_York:20250827T130000
DTSTAMP:20260425T215152
CREATED:20250811T184741Z
LAST-MODIFIED:20250811T184741Z
UID:10000278-1756288800-1756299600@namar.org
SUMMARY:REALTOR® Self Defense & Situational Awareness - 3 hr. CE
DESCRIPTION:REALTOR® Self Defense & Situational Awareness 3 Hr CE\nDATE: Wednesday\, August 27\, 2025 \n\nTIME: 10:00 AM to 1:00 PM\nLOCATION: The Vines at Mill Creek\nThe Vines at Mill Creek\n2335 Grape Vine Way\nBraselton\, GA 30517\n\n\n\nThis class focuses on the mental and physical training involved with self-defense\, specifically designed for Real Estate Professionals.Wear workout clothes and sneakers. This class is for NAMAR members\, non-members\, and NAMAR Partners and Affiliate members.\n\nREGISTER HERE
URL:https://namar.org/event/realtor-self-defense-situational-awareness-3-hr-ce/
LOCATION:The Vines at Mill Creek\, 2335 Grape Vine Way\, Braselton\, 30517\, United States
ATTACH;FMTTYPE=image/jpeg:https://namar.org/wp-content/uploads/2025/08/Self-Defense-Training-Class.jpeg
ORGANIZER;CN="NAMAR":MAILTO:events@namar.org
END:VEVENT
END:VCALENDAR