BEGIN:VCALENDAR
VERSION:2.0
PRODID:-//NAMAR - ECPv6.15.20//NONSGML v1.0//EN
CALSCALE:GREGORIAN
METHOD:PUBLISH
X-WR-CALNAME:NAMAR
X-ORIGINAL-URL:https://namar.org
X-WR-CALDESC:Events for NAMAR
REFRESH-INTERVAL;VALUE=DURATION:PT1H
X-Robots-Tag:noindex
X-PUBLISHED-TTL:PT1H
BEGIN:VTIMEZONE
TZID:America/New_York
BEGIN:DAYLIGHT
TZOFFSETFROM:-0500
TZOFFSETTO:-0400
TZNAME:EDT
DTSTART:20240310T070000
END:DAYLIGHT
BEGIN:STANDARD
TZOFFSETFROM:-0400
TZOFFSETTO:-0500
TZNAME:EST
DTSTART:20241103T060000
END:STANDARD
BEGIN:DAYLIGHT
TZOFFSETFROM:-0500
TZOFFSETTO:-0400
TZNAME:EDT
DTSTART:20250309T070000
END:DAYLIGHT
BEGIN:STANDARD
TZOFFSETFROM:-0400
TZOFFSETTO:-0500
TZNAME:EST
DTSTART:20251102T060000
END:STANDARD
BEGIN:DAYLIGHT
TZOFFSETFROM:-0500
TZOFFSETTO:-0400
TZNAME:EDT
DTSTART:20260308T070000
END:DAYLIGHT
BEGIN:STANDARD
TZOFFSETFROM:-0400
TZOFFSETTO:-0500
TZNAME:EST
DTSTART:20261101T060000
END:STANDARD
END:VTIMEZONE
BEGIN:VEVENT
DTSTART;TZID=America/New_York:20250424T110000
DTEND;TZID=America/New_York:20250424T140000
DTSTAMP:20260425T160302
CREATED:20240813T165044Z
LAST-MODIFIED:20250128T102315Z
UID:10000181-1745492400-1745503200@namar.org
SUMMARY:NAMAR's 17th Annual Partners in Business EXPO
DESCRIPTION:Join Us for a Day of Great Fun!\n~ FREE ADMISSION!\n~ FREE LUNCH\n~100+ Vendors\n~ First 500 Entrants arriving between 10:45-11:10 will be entered into a $500 Drawing\n~ Four $100 Gift Card Drawings\n~ Plus\, Great Door Prizes\nPre-Register and Attend for a Chance to Win $1\,000! Click here to Pre-Register\nINTERESTED IN RESERVING A BOOTH?\nSingle and Double Booths are available\nClick here to reserve your booth or contact Scott Kliesen at scott@namar.org
URL:https://namar.org/event/namar-expo/
LOCATION:Coolray Field\, 2500 Buford Dr.\, Lawrenceville\, GA\, 30043\, United States
CATEGORIES:NAMAR Events
ATTACH;FMTTYPE=image/jpeg:https://namar.org/wp-content/uploads/2024/08/2025-EXPO.jpg
ORGANIZER;CN="NAMAR":MAILTO:events@namar.org
END:VEVENT
END:VCALENDAR