BEGIN:VCALENDAR
VERSION:2.0
PRODID:-//NAMAR - ECPv6.15.20//NONSGML v1.0//EN
CALSCALE:GREGORIAN
METHOD:PUBLISH
X-ORIGINAL-URL:https://namar.org
X-WR-CALDESC:Events for NAMAR
REFRESH-INTERVAL;VALUE=DURATION:PT1H
X-Robots-Tag:noindex
X-PUBLISHED-TTL:PT1H
BEGIN:VTIMEZONE
TZID:America/New_York
BEGIN:DAYLIGHT
TZOFFSETFROM:-0500
TZOFFSETTO:-0400
TZNAME:EDT
DTSTART:20240310T070000
END:DAYLIGHT
BEGIN:STANDARD
TZOFFSETFROM:-0400
TZOFFSETTO:-0500
TZNAME:EST
DTSTART:20241103T060000
END:STANDARD
BEGIN:DAYLIGHT
TZOFFSETFROM:-0500
TZOFFSETTO:-0400
TZNAME:EDT
DTSTART:20250309T070000
END:DAYLIGHT
BEGIN:STANDARD
TZOFFSETFROM:-0400
TZOFFSETTO:-0500
TZNAME:EST
DTSTART:20251102T060000
END:STANDARD
BEGIN:DAYLIGHT
TZOFFSETFROM:-0500
TZOFFSETTO:-0400
TZNAME:EDT
DTSTART:20260308T070000
END:DAYLIGHT
BEGIN:STANDARD
TZOFFSETFROM:-0400
TZOFFSETTO:-0500
TZNAME:EST
DTSTART:20261101T060000
END:STANDARD
END:VTIMEZONE
BEGIN:VEVENT
DTSTART;VALUE=DATE:20250101
DTEND;VALUE=DATE:20250201
DTSTAMP:20260425T084631
CREATED:20250101T125347Z
LAST-MODIFIED:20250101T125347Z
UID:10000223-1735689600-1738367999@namar.org
SUMMARY:Now Accepting Applications for NAMAR Awards
DESCRIPTION:We are now accepting applications for the NAMAR Awards. All applications must be submitted by January 31\, 2025 \nClick here to Submit Application. \nClick here for more information and requirements.
URL:https://namar.org/event/now-accepting-applications-for-namar-awards/
LOCATION:GA
ORGANIZER;CN="NAMAR":MAILTO:events@namar.org
END:VEVENT
BEGIN:VEVENT
DTSTART;TZID=America/New_York:20250129T080000
DTEND;TZID=America/New_York:20250221T120000
DTSTAMP:20260425T084631
CREATED:20250129T182647Z
LAST-MODIFIED:20250129T182647Z
UID:10000234-1738137600-1740139200@namar.org
SUMMARY:Now Accepting Nominations for Special Awards
DESCRIPTION:Every year\, NAMAR recognizes the following special awards. Please submit by Noon on February 21\, 2025 \nBroker of the Year – Click here for Nomination Form \nREALTOR of the Year – Click here for Nomination Form \nCaptain of Industry – Click here for Nomination Form \nRookie of the Year – Click here for Nomination Form\nRookie of the Year will recognize one agent in the areas of New Homes\, Resales and Team. You may nominate one agent per category from your office. \n\nLicensed for less than two years in qualifying year\n$75\,000 GCI or 15 closed transactions in the qualifying year. In case of a tie in # of units\, the higher GCI trumps number of transactions.\nNAMAR must be the Primary Association.
URL:https://namar.org/event/now-accepting-nominations-for-special-awards-2/
LOCATION:GA
ORGANIZER;CN="NAMAR":MAILTO:events@namar.org
END:VEVENT
BEGIN:VEVENT
DTSTART;TZID=America/New_York:20250130T100000
DTEND;TZID=America/New_York:20250130T130000
DTSTAMP:20260425T084631
CREATED:20241210T145423Z
LAST-MODIFIED:20241217T155521Z
UID:10000215-1738231200-1738242000@namar.org
SUMMARY:CE CLASS: Contract Updates 2025
DESCRIPTION:Contract Updates 2025 / January 30\, 2025\n10 am – 1 pm\n$20 Members / $30 Non Members\n3 CE Credits\nInstructor: Karen Loftus\nREGISTER ONLINE\nContract changes and updates have arrived. Come to see what’s new for 2025.\nLocation: FMLS Duluth Office \n2250 Satellite Blvd NW ste. 215\,\nDuluth GA 30097\n 
URL:https://namar.org/event/ce-class-contract-updates-2025/
LOCATION:FMLS Duluth Office\, 2250 Satellite Blvd NW ste. 215\, Duluth\, GA\, 30097\, United States
CATEGORIES:NAMAR Education
ATTACH;FMTTYPE=image/jpeg:https://namar.org/wp-content/uploads/2022/12/ce-class.jpg
ORGANIZER;CN="NAMAR":MAILTO:events@namar.org
END:VEVENT
END:VCALENDAR