BEGIN:VCALENDAR
VERSION:2.0
PRODID:-//NAMAR - ECPv6.15.20//NONSGML v1.0//EN
CALSCALE:GREGORIAN
METHOD:PUBLISH
X-ORIGINAL-URL:https://namar.org
X-WR-CALDESC:Events for NAMAR
REFRESH-INTERVAL;VALUE=DURATION:PT1H
X-Robots-Tag:noindex
X-PUBLISHED-TTL:PT1H
BEGIN:VTIMEZONE
TZID:America/New_York
BEGIN:DAYLIGHT
TZOFFSETFROM:-0500
TZOFFSETTO:-0400
TZNAME:EDT
DTSTART:20230312T070000
END:DAYLIGHT
BEGIN:STANDARD
TZOFFSETFROM:-0400
TZOFFSETTO:-0500
TZNAME:EST
DTSTART:20231105T060000
END:STANDARD
BEGIN:DAYLIGHT
TZOFFSETFROM:-0500
TZOFFSETTO:-0400
TZNAME:EDT
DTSTART:20240310T070000
END:DAYLIGHT
BEGIN:STANDARD
TZOFFSETFROM:-0400
TZOFFSETTO:-0500
TZNAME:EST
DTSTART:20241103T060000
END:STANDARD
BEGIN:DAYLIGHT
TZOFFSETFROM:-0500
TZOFFSETTO:-0400
TZNAME:EDT
DTSTART:20250309T070000
END:DAYLIGHT
BEGIN:STANDARD
TZOFFSETFROM:-0400
TZOFFSETTO:-0500
TZNAME:EST
DTSTART:20251102T060000
END:STANDARD
END:VTIMEZONE
BEGIN:VEVENT
DTSTART;TZID=America/New_York:20241106T100000
DTEND;TZID=America/New_York:20241106T130000
DTSTAMP:20260421T164033
CREATED:20241001T185915Z
LAST-MODIFIED:20241001T185915Z
UID:10000192-1730887200-1730898000@namar.org
SUMMARY:In-Person Code of Ethics
DESCRIPTION:Code of Ethics / November 6\, 2024\n10:00 am – 1:00 pm\n$15 Members / $20 Non Members\n3 CE Credits\nInstructor: Tom Gillette\nREGISTER ONLINE
URL:https://namar.org/event/in-person-code-of-ethics-5/
LOCATION:NAMAR Lower Level Classroom\, 2145 Duluth Highway\, Duluth\, GA\, 30097\, United States
CATEGORIES:Code of Ethics
ATTACH;FMTTYPE=image/jpeg:https://namar.org/wp-content/uploads/2022/12/code-of-ethics.jpg
ORGANIZER;CN="NAMAR":MAILTO:events@namar.org
END:VEVENT
END:VCALENDAR