BEGIN:VCALENDAR
VERSION:2.0
PRODID:-//NAMAR - ECPv6.15.20//NONSGML v1.0//EN
CALSCALE:GREGORIAN
METHOD:PUBLISH
X-ORIGINAL-URL:https://namar.org
X-WR-CALDESC:Events for NAMAR
REFRESH-INTERVAL;VALUE=DURATION:PT1H
X-Robots-Tag:noindex
X-PUBLISHED-TTL:PT1H
BEGIN:VTIMEZONE
TZID:America/New_York
BEGIN:DAYLIGHT
TZOFFSETFROM:-0500
TZOFFSETTO:-0400
TZNAME:EDT
DTSTART:20230312T070000
END:DAYLIGHT
BEGIN:STANDARD
TZOFFSETFROM:-0400
TZOFFSETTO:-0500
TZNAME:EST
DTSTART:20231105T060000
END:STANDARD
BEGIN:DAYLIGHT
TZOFFSETFROM:-0500
TZOFFSETTO:-0400
TZNAME:EDT
DTSTART:20240310T070000
END:DAYLIGHT
BEGIN:STANDARD
TZOFFSETFROM:-0400
TZOFFSETTO:-0500
TZNAME:EST
DTSTART:20241103T060000
END:STANDARD
BEGIN:DAYLIGHT
TZOFFSETFROM:-0500
TZOFFSETTO:-0400
TZNAME:EDT
DTSTART:20250309T070000
END:DAYLIGHT
BEGIN:STANDARD
TZOFFSETFROM:-0400
TZOFFSETTO:-0500
TZNAME:EST
DTSTART:20251102T060000
END:STANDARD
END:VTIMEZONE
BEGIN:VEVENT
DTSTART;TZID=America/New_York:20240920T093000
DTEND;TZID=America/New_York:20240920T093000
DTSTAMP:20260422T053029
CREATED:20240822T175403Z
LAST-MODIFIED:20240822T175459Z
UID:10000182-1726824600-1726824600@namar.org
SUMMARY:NAMAR September Connect
DESCRIPTION:Join us in a class to enhance REALTORS safety during interactions with clients and the public with de-escalation training \nSeptember 20\, 2024 \nNetworking – 9:30 am\nConnect Begins – 10:00 am \nLocation: McMichael & Gray\n655 Engineering Drive\, Suite 100\nPeachtree Corners\, GA 30092 \nFREE to Members – Register Online \nREALTOR Safety Month \nSpeaker: Sergeant Eric Rooks\n\nSergeant Rooks will discuss:\n\n\nHow providing good customer service helps to avoid safety issues\nThe “Universal Truths of People”\nDeflector and Rediretor Techniques
URL:https://namar.org/event/namar-september-connect/
LOCATION:McMichael and Gray\, 655 Engineering Drive\, Suite 100\, Peachtree Corners\, GA\, 30092\, United States
CATEGORIES:NAMAR Events
ATTACH;FMTTYPE=image/jpeg:https://namar.org/wp-content/uploads/2024/08/Sept-Connect.jpg
ORGANIZER;CN="NAMAR":MAILTO:events@namar.org
END:VEVENT
END:VCALENDAR