BEGIN:VCALENDAR
VERSION:2.0
PRODID:-//NAMAR - ECPv6.15.20//NONSGML v1.0//EN
CALSCALE:GREGORIAN
METHOD:PUBLISH
X-WR-CALNAME:NAMAR
X-ORIGINAL-URL:https://namar.org
X-WR-CALDESC:Events for NAMAR
REFRESH-INTERVAL;VALUE=DURATION:PT1H
X-Robots-Tag:noindex
X-PUBLISHED-TTL:PT1H
BEGIN:VTIMEZONE
TZID:America/New_York
BEGIN:DAYLIGHT
TZOFFSETFROM:-0500
TZOFFSETTO:-0400
TZNAME:EDT
DTSTART:20220313T070000
END:DAYLIGHT
BEGIN:STANDARD
TZOFFSETFROM:-0400
TZOFFSETTO:-0500
TZNAME:EST
DTSTART:20221106T060000
END:STANDARD
BEGIN:DAYLIGHT
TZOFFSETFROM:-0500
TZOFFSETTO:-0400
TZNAME:EDT
DTSTART:20230312T070000
END:DAYLIGHT
BEGIN:STANDARD
TZOFFSETFROM:-0400
TZOFFSETTO:-0500
TZNAME:EST
DTSTART:20231105T060000
END:STANDARD
BEGIN:DAYLIGHT
TZOFFSETFROM:-0500
TZOFFSETTO:-0400
TZNAME:EDT
DTSTART:20240310T070000
END:DAYLIGHT
BEGIN:STANDARD
TZOFFSETFROM:-0400
TZOFFSETTO:-0500
TZNAME:EST
DTSTART:20241103T060000
END:STANDARD
END:VTIMEZONE
BEGIN:VEVENT
DTSTART;TZID=America/New_York:20230613T100000
DTEND;TZID=America/New_York:20230613T130000
DTSTAMP:20260422T135222
CREATED:20230501T180707Z
LAST-MODIFIED:20230501T180813Z
UID:10000062-1686650400-1686661200@namar.org
SUMMARY:CE CLASS: Does Your Home Buyer Need a Mortgage 15 things your Buyer needs to know
DESCRIPTION:Does Your Home Buyer Need a Mortgage 15 things your Buyer needs to know / June 13\, 2023\n10:00 am – 1:00 pm\n$15 Members / $30 Non Members\n3 CE Credits\nInstructor: Pyper Macloskie\, Silverton Mortgage \nREGISTER ONLINE\nDoes Your Homebuyer need a Mortgage?\n15 Things your Buyer needs to know. \nHow do you know if your buyer is ready\, willing and able to buy a home?  Join us to learn about the minimum borrower guidelines and some unique mortgage options that may be available! \nLunch will be provided.
URL:https://namar.org/event/ce-class-does-your-home-buyer-need-a-mortgage-15-things-your-buyer-needs-to-know/
LOCATION:NAMAR Lower Level Classroom\, 2145 Duluth Highway\, Duluth\, GA\, 30097\, United States
CATEGORIES:NAMAR Education
ATTACH;FMTTYPE=image/jpeg:https://namar.org/wp-content/uploads/2022/12/ce-class.jpg
ORGANIZER;CN="NAMAR":MAILTO:events@namar.org
END:VEVENT
END:VCALENDAR